BEGIN:VCALENDAR
VERSION:2.0
PRODID:-//DAM Online - ECPv6.15.20//NONSGML v1.0//EN
CALSCALE:GREGORIAN
METHOD:PUBLISH
X-ORIGINAL-URL:https://dam-online.de
X-WR-CALDESC:Veranstaltungen für DAM Online
REFRESH-INTERVAL;VALUE=DURATION:PT1H
X-Robots-Tag:noindex
X-PUBLISHED-TTL:PT1H
BEGIN:VTIMEZONE
TZID:Europe/Berlin
BEGIN:DAYLIGHT
TZOFFSETFROM:+0100
TZOFFSETTO:+0200
TZNAME:CEST
DTSTART:20250330T010000
END:DAYLIGHT
BEGIN:STANDARD
TZOFFSETFROM:+0200
TZOFFSETTO:+0100
TZNAME:CET
DTSTART:20251026T010000
END:STANDARD
BEGIN:DAYLIGHT
TZOFFSETFROM:+0100
TZOFFSETTO:+0200
TZNAME:CEST
DTSTART:20260329T010000
END:DAYLIGHT
BEGIN:STANDARD
TZOFFSETFROM:+0200
TZOFFSETTO:+0100
TZNAME:CET
DTSTART:20261025T010000
END:STANDARD
BEGIN:DAYLIGHT
TZOFFSETFROM:+0100
TZOFFSETTO:+0200
TZNAME:CEST
DTSTART:20270328T010000
END:DAYLIGHT
BEGIN:STANDARD
TZOFFSETFROM:+0200
TZOFFSETTO:+0100
TZNAME:CET
DTSTART:20271031T010000
END:STANDARD
END:VTIMEZONE
BEGIN:VEVENT
DTSTART;TZID=Europe/Berlin:20260606T120000
DTEND;TZID=Europe/Berlin:20260606T200000
DTSTAMP:20260424T175402
CREATED:20260424T090823Z
LAST-MODIFIED:20260424T090823Z
UID:10050564-1780747200-1780776000@dam-online.de
SUMMARY:PELADA WORLD – FRANKFURTS FIRST FAVELA STREET TOURNAMENT
DESCRIPTION:PELADA WORLD – FRANKFURTS FIRST FAVELA STREET TOURNAMENT\n6. Juni 2026 | 12:00 – 20:00 Uhr | Unter der Friedensbrücke | kostenfrei \nAm 06.06 wird der Streetcourt unter der Friedensbrücke zur Favela. Pelada World setzt einen klaren Maßstab für Streetsoccer in Deutschland. \nIm Zentrum steht ein urbaner Platz\, transformiert in eine Favela-inspirierte Straßenfußball-Atmosphäre. Fahnen\, Trikots\, Farben\, Musik. Enge Räume\, direkte Duelle\, keine Distanz zwischen Spielern und Crowd. Hier stehen die besten Street-Soccer-Spieler Deutschlands auf dem Platz. Kein Showcase\, sondern echter Wettbewerb. Sechs Teams treten an. Vier davon geführt von bekannten Teamheads\, zwei als Wildcard-Teams direkt aus Frankfurt. Lokale Energie trifft auf nationale Szene. \nRund um das Feld entsteht die Favela Street. Foodstände\, Barber-Shop\, offene Fußball-Aktionen\, DJ und Musik. Frankfurts Straßenfußballkultur bekommt hier eine neue Bühne.  Am Ende geht es nicht nur um den Pokal. Es geht darum\, etwas mitzunehmen. Kontakte\, Energie\, Sichtbarkeit. Für Spieler\, für Teams\, für alle\, die Teil davon sind.
URL:https://dam-online.de/veranstaltung/pelada-world-frankfurts-first-favela-street-tournament/
LOCATION:Unter der Friedensbrücke
CATEGORIES:Veranstaltung
ATTACH;FMTTYPE=image/jpeg:https://dam-online.de/wp-content/uploads/2026/04/Still-2025-09-06-212112_1.198.2.jpg
ORGANIZER;CN="Deutsches Architekturmuseum (DAM)":MAILTO:info.dam@stadt-frankfurt.de
END:VEVENT
END:VCALENDAR