BEGIN:VCALENDAR
VERSION:2.0
PRODID:-//DAM Online - ECPv6.15.20//NONSGML v1.0//EN
CALSCALE:GREGORIAN
METHOD:PUBLISH
X-WR-CALNAME:DAM Online
X-ORIGINAL-URL:https://dam-online.de
X-WR-CALDESC:Veranstaltungen für DAM Online
REFRESH-INTERVAL;VALUE=DURATION:PT1H
X-Robots-Tag:noindex
X-PUBLISHED-TTL:PT1H
BEGIN:VTIMEZONE
TZID:Europe/Berlin
BEGIN:DAYLIGHT
TZOFFSETFROM:+0100
TZOFFSETTO:+0200
TZNAME:CEST
DTSTART:20200329T010000
END:DAYLIGHT
BEGIN:STANDARD
TZOFFSETFROM:+0200
TZOFFSETTO:+0100
TZNAME:CET
DTSTART:20201025T010000
END:STANDARD
BEGIN:DAYLIGHT
TZOFFSETFROM:+0100
TZOFFSETTO:+0200
TZNAME:CEST
DTSTART:20210328T010000
END:DAYLIGHT
BEGIN:STANDARD
TZOFFSETFROM:+0200
TZOFFSETTO:+0100
TZNAME:CET
DTSTART:20211031T010000
END:STANDARD
BEGIN:DAYLIGHT
TZOFFSETFROM:+0100
TZOFFSETTO:+0200
TZNAME:CEST
DTSTART:20220327T010000
END:DAYLIGHT
BEGIN:STANDARD
TZOFFSETFROM:+0200
TZOFFSETTO:+0100
TZNAME:CET
DTSTART:20221030T010000
END:STANDARD
END:VTIMEZONE
BEGIN:VEVENT
DTSTART;VALUE=DATE:20211011
DTEND;VALUE=DATE:20211016
DTSTAMP:20260423T001629
CREATED:20211001T081133Z
LAST-MODIFIED:20211001T082454Z
UID:10049614-1633910400-1634342399@dam-online.de
SUMMARY:DAM on Tour in Leipzig: DAM Preis 2021
DESCRIPTION:DAM Preis 2021: Die 25 besten Bauten in/aus Deutschland.\nAusstellung: vom 11. – 15.Oktober 2021\nTapetenwerk Halle C\nLützner Straße 91 in Leipzig \nMontag – Freitag 10–18 Uhr. Der Eintritt ist frei. \nVernissage: Freitag\, 08. OKtober 2021\, 18:00 Uhr\nunter Anwesenheit von Peter Cachola Schmal\, dem Direktor des DAM und seines Kuratorenteams. \nDie Ausstellung zum DAM Preis 2021 zeigt aktuelle Architektur aus Deutschland und bemerkenswerte Projekte deutscher Architekturbüros in anderen Ländern. Als DAM Gewinnerprojekt wurde der Neubau WERK12 in München von ARGE MVRDV & N-V-O benannt. 2021 wurde der Preis vom Deutschen Architekturmuseum (DAM) bereits zum fünften Mal in enger Zusammenarbeit mit JUNG als Kooperationspartner vergeben. Es gelten die aktuellen Coronaschutzmaßmahmen. \nwww.dam-preis.de
URL:https://dam-online.de/veranstaltung/dam-on-tour-in-leipzig-dam-preis-2021/
LOCATION:Tapetenwerk Halle C\, Lützner Str. 91\, Leipzig\, 04177
CATEGORIES:Architekturpreis,Veranstaltung
ATTACH;FMTTYPE=image/jpeg:https://dam-online.de/wp-content/uploads/2021/01/DAM-Preis-2021_Ausstellung_Foto_MoritzBernoully_010-scaled.jpg
END:VEVENT
END:VCALENDAR