BEGIN:VCALENDAR
VERSION:2.0
PRODID:-//DAM Online - ECPv6.15.20//NONSGML v1.0//EN
CALSCALE:GREGORIAN
METHOD:PUBLISH
X-WR-CALNAME:DAM Online
X-ORIGINAL-URL:https://dam-online.de
X-WR-CALDESC:Veranstaltungen für DAM Online
REFRESH-INTERVAL;VALUE=DURATION:PT1H
X-Robots-Tag:noindex
X-PUBLISHED-TTL:PT1H
BEGIN:VTIMEZONE
TZID:UTC
BEGIN:STANDARD
TZOFFSETFROM:+0000
TZOFFSETTO:+0000
TZNAME:UTC
DTSTART:20210101T000000
END:STANDARD
END:VTIMEZONE
BEGIN:VEVENT
DTSTART;TZID=UTC:20220729T160000
DTEND;TZID=UTC:20220729T160000
DTSTAMP:20260422T125353
CREATED:20220725T073819Z
LAST-MODIFIED:20220725T073819Z
UID:10048938-1659110400-1659110400@dam-online.de
SUMMARY:GFB-Sommer '22
DESCRIPTION:Talks für Zukunft in Frankfurt & Region Frankfurt am Main \nAm 29. Juli 2022 veranstaltet das Stadtplanungsamt von 16 bis 22 Uhr in Frankfurt das Sommerevent des Großen Frankfurter Bogens unter dem Titel „Wohnen in den neuen Zwanzigern“. Am Platz vor dem Historischen Museum diskutiert Frankfurt Zukunft! Kommen Sie vorbei\, schauen Sie sich an\, wie die nächste Generation die Herausforderungen der Stadtplanung annimmt\, diskutieren Sie über Zeit und Raum der Zukunft und blicken Sie mit uns in die „Raumstadt Nordweststadt“. \nIm Frankfurter Zukunftsdiskurs „Wohnen in den neuen Zwanzigern? Talks für Zukunft in Frankfurt & Region“ werden fachliche\, spielerische und unterhaltsame Elemente zu einem bunten Halbtagesevent verbunden. Der Nachmittag startet um 16 Uhr mit der Begrüßung durch Jens Deutschendorf\, Staatssekretär im Hessischen Ministerium für Wirtschaft\, Energie\, Verkehr und Wohnen\, und Mike Josef\, Dezernent für Planen\, Wohnen und Sport der Stadt Frankfurt am Main. Durch das Programm führt Andrea Jürges vom Deutschen Architekturmuseum sowie Jan Friedrich von der Bauwelt. \nIm Anschluss werden die innovativen Ansätze von Frankfurt-Nordwest als „neuer Stadtteil der Quartiere“ vorgestellt. In einem Impulsvortrag zum Thema „Zeit für Zukunft“ verknüpft Jan Friedrich den zeitlichen Aspekt mit dem Planungsraum und bindet mit der 30-Minuten-Stadt die Partnerkommunen im „Großen Frankfurter Bogen“ ein. Über das Projekt „Wohnregion“ des Deutschen Architekturmuseums werden Kinder und Jugendliche in einer Challenge mit Hilfe des Computerspiels Minecraft den herausfordernden Fragestellungen der Stadtplanung Frankfurts stellen: Wie können auf engstem Raum die vielschichtigen Anforderungen der Stadtgesellschaft erfüllt werden und insbesondere Wohnen und produktives Gewerbe mit und nebeneinander gut funktionieren? \nIn der anschließenden Talkrunde bringen die eingeladenen GFB-Partnerkommunen ihre aktuellen Herausforderungen mit nach Frankfurt. Mit Kurzstatements sollen Lösungsoptionen für die Herausforderungen der Zukunft aufgezeigt und gemeinsam diskutiert werden. Das Publikum wird aktiv in die Diskussionen eingebunden und kann Zukunftswünsche an die Kommunen richten. \nDas Sommerevent endet mit einem Open-Air-Kino des Films „Raumstadt Nordweststadt“\, zu dem die Filmemacher erwartet werden und vor Filmbeginn für ein Gespräch zur Verfügung stehen. \nDas ausführliche Programm finden Sie hier.
URL:https://dam-online.de/veranstaltung/gfb-sommer-22/
LOCATION:Platz vor dem Historischen Museum\, Saalhof 1\, Frankfurt am Main\, Hessen\, 60311\, Deutschland
CATEGORIES:Veranstaltung
ATTACH;FMTTYPE=image/jpeg:https://dam-online.de/wp-content/uploads/2022/07/1920x1080.jpg
END:VEVENT
END:VCALENDAR