BEGIN:VCALENDAR
VERSION:2.0
PRODID:-//DAM Online - ECPv6.15.20//NONSGML v1.0//EN
CALSCALE:GREGORIAN
METHOD:PUBLISH
X-WR-CALNAME:DAM Online
X-ORIGINAL-URL:https://dam-online.de
X-WR-CALDESC:Veranstaltungen für DAM Online
REFRESH-INTERVAL;VALUE=DURATION:PT1H
X-Robots-Tag:noindex
X-PUBLISHED-TTL:PT1H
BEGIN:VTIMEZONE
TZID:Europe/Berlin
BEGIN:DAYLIGHT
TZOFFSETFROM:+0100
TZOFFSETTO:+0200
TZNAME:CEST
DTSTART:20240331T010000
END:DAYLIGHT
BEGIN:STANDARD
TZOFFSETFROM:+0200
TZOFFSETTO:+0100
TZNAME:CET
DTSTART:20241027T010000
END:STANDARD
BEGIN:DAYLIGHT
TZOFFSETFROM:+0100
TZOFFSETTO:+0200
TZNAME:CEST
DTSTART:20250330T010000
END:DAYLIGHT
BEGIN:STANDARD
TZOFFSETFROM:+0200
TZOFFSETTO:+0100
TZNAME:CET
DTSTART:20251026T010000
END:STANDARD
BEGIN:DAYLIGHT
TZOFFSETFROM:+0100
TZOFFSETTO:+0200
TZNAME:CEST
DTSTART:20260329T010000
END:DAYLIGHT
BEGIN:STANDARD
TZOFFSETFROM:+0200
TZOFFSETTO:+0100
TZNAME:CET
DTSTART:20261025T010000
END:STANDARD
END:VTIMEZONE
BEGIN:VEVENT
DTSTART;VALUE=DATE:20250503
DTEND;VALUE=DATE:20250713
DTSTAMP:20260419T171805
CREATED:20250422T125307Z
LAST-MODIFIED:20250422T125307Z
UID:10050223-1746230400-1752364799@dam-online.de
SUMMARY:DAM on Tour in Bonn: GANZ GROSSE OPER - VIEL MEHR THEATER?
DESCRIPTION:3. Mai – 12. Juli 2025\nMarmorfoyer des Opernhauses \nAm Boeselagerhof 1\n53111 Bonn \nWie werden Bühnen in der Zukunft aussehen? Welche Gestalt können diese zentralen Orte der kollektiven kulturellen Begegnung haben? Welche Angebote müssen Opernhäuser und Theater als Orte des öffentlichen Lebens in Zukunft bieten? Diese Fragen stellte die Ausstellung „GROSSE OPER – VIEL THEATER?“ bereits 2018. In Frankfurt und anderen Städten wurden seither intensive\, oft kontroverse Diskussionen um Sanierung oder Neubau von diesen Kulturbauten mit hohem Stellenwert für die Stadtgesellschaft weitergeführt. \n„GANZ GROSSE OPER – VIEL MEHR THEATER?“ nimmt den Faden wieder auf\, vergleicht die Entwicklungen in verschiedenen Städten und stellt auch zwei aktuelle best-practice-Beispiele vor. Ebenso nimmt die Ausstellung die Standortvarianten für Oper und Schauspiel in Frankfurt am Main in den Blick.
URL:https://dam-online.de/veranstaltung/dam-on-tour-in-bonn-ganz-grosse-oper-viel-mehr-theater/
LOCATION:Opernhaus Bonn\, Am Boeselagerhof 1\, Bonn\, 53111
CATEGORIES:Veranstaltung
ATTACH;FMTTYPE=image/jpeg:https://dam-online.de/wp-content/uploads/2024/08/DAM_Oper-Theater_Schauspiel-FFM_Robert-Metsch-scaled.jpg
ORGANIZER;CN="Deutsches Architekturmuseum (DAM)":MAILTO:info.dam@stadt-frankfurt.de
END:VEVENT
END:VCALENDAR