BEGIN:VCALENDAR
VERSION:2.0
PRODID:-//DAM Online - ECPv6.15.20//NONSGML v1.0//EN
CALSCALE:GREGORIAN
METHOD:PUBLISH
X-WR-CALNAME:DAM Online
X-ORIGINAL-URL:https://dam-online.de
X-WR-CALDESC:Veranstaltungen für DAM Online
REFRESH-INTERVAL;VALUE=DURATION:PT1H
X-Robots-Tag:noindex
X-PUBLISHED-TTL:PT1H
BEGIN:VTIMEZONE
TZID:Europe/Berlin
BEGIN:DAYLIGHT
TZOFFSETFROM:+0100
TZOFFSETTO:+0200
TZNAME:CEST
DTSTART:20220327T010000
END:DAYLIGHT
BEGIN:STANDARD
TZOFFSETFROM:+0200
TZOFFSETTO:+0100
TZNAME:CET
DTSTART:20221030T010000
END:STANDARD
BEGIN:DAYLIGHT
TZOFFSETFROM:+0100
TZOFFSETTO:+0200
TZNAME:CEST
DTSTART:20230326T010000
END:DAYLIGHT
BEGIN:STANDARD
TZOFFSETFROM:+0200
TZOFFSETTO:+0100
TZNAME:CET
DTSTART:20231029T010000
END:STANDARD
BEGIN:DAYLIGHT
TZOFFSETFROM:+0100
TZOFFSETTO:+0200
TZNAME:CEST
DTSTART:20240331T010000
END:DAYLIGHT
BEGIN:STANDARD
TZOFFSETFROM:+0200
TZOFFSETTO:+0100
TZNAME:CET
DTSTART:20241027T010000
END:STANDARD
BEGIN:DAYLIGHT
TZOFFSETFROM:+0100
TZOFFSETTO:+0200
TZNAME:CEST
DTSTART:20250330T010000
END:DAYLIGHT
BEGIN:STANDARD
TZOFFSETFROM:+0200
TZOFFSETTO:+0100
TZNAME:CET
DTSTART:20251026T010000
END:STANDARD
END:VTIMEZONE
BEGIN:VEVENT
DTSTART;VALUE=DATE:20240515
DTEND;VALUE=DATE:20240527
DTSTAMP:20260420T222054
CREATED:20240508T101949Z
LAST-MODIFIED:20240517T091144Z
UID:10050091-1715731200-1716767999@dam-online.de
SUMMARY:DAM on Tour in Kassel: Europäischer Architekturfotografie-Preis 2023
DESCRIPTION:KAZimKUBA-Ausstellung\n„Europäischer Architekturfotografie-Preis 2023“ \nDas KAZimKUBA zeigt die Wanderausstellung zum 15. Europäische Architekturfotografie-Preis architekturbild. Das Thema 2023 lautete „Provisorium – Stopgap“. Für den Begriff „Provisorium“ werden zahlreiche Synonyme angeboten\, etwa Ersatz\, Notlösung\, Übergangs- oder Zwischenlösung. Wir alle kennen solche Behelfe aus dem privaten Umfeld wie auch dem öffentlichen Leben. Und wir wissen nur zu gut\, dass sie als eigentlich temporär gedachte Einrichtungen nicht selten in einen dauerhaften Zustand übergehen\, seien es Behausungen\, Wegeverläufe\, handgemalte Schilder\, improvisierte Einrichtungen oder mehr oder weniger ausgereifte Konstruktionen. Das Hamburger Fotografenteam Nicole Keller & Oliver Schumacher ist der Gewinner des Europäischen Architekturfotografie-Preis architekturbild 2023. \nERÖFFNUNG\n14. Mai 2024 / 19 Uhr \nAUSSTELLUNG\n15.-26. Mai 2024 / Mi-Fr: 17-20 Uhr\, Sa-So: 16-19 Uhr \nORT\nKAZimKUBA\, Rainer-Dierichs-Platz1\, Querhalle (gegenüber Gleis 8)\, 34117 Kassel \nINFORMATION\nwww.kazimkuba.de
URL:https://dam-online.de/veranstaltung/dam-on-tour-in-kassel-europaeischer-architekturfotografie-preis-2023/
LOCATION:KAZimKUBA\, Hessenallee 2\, Kassel\, Hessen\, 3\, Deutschland
CATEGORIES:Veranstaltung
ATTACH;FMTTYPE=image/jpeg:https://dam-online.de/wp-content/uploads/2023/03/1_ArneJacobsenHaus_cKellerSchumacher_-scaled.jpg
ORGANIZER;CN="Deutsches Architekturmuseum (DAM)":MAILTO:info.dam@stadt-frankfurt.de
END:VEVENT
BEGIN:VEVENT
DTSTART;VALUE=DATE:20230329
DTEND;VALUE=DATE:20230410
DTSTAMP:20260420T222054
CREATED:20230321T085401Z
LAST-MODIFIED:20230321T085738Z
UID:10049927-1680048000-1681084799@dam-online.de
SUMMARY:DAM On Tour in Kassel: Das Urbane im Peripheren. European Architectural Photography Prize  architekturbild 2021
DESCRIPTION:European Architectural Photography Prize architekturbild 2021 »Das Urbane im Peripheren | The Urban in the Periphery«\n 29. März – 9. April 2023\nVernissage Dienstag\, 28. März 2023\, 19:00 Uhr im KAZimKUBA\nEinführung:\nChristina Gräwe\, Vorsitzende architekturbild e.v.\, Berlin \nDer Europäische Architekturfotografie-Preis architekturbild ist ein weltweit einzigartiger und international beachteter Preis. Ausgelobt wird er seit 1995 alle zwei Jahre\, seit 2003 vom architekturbild e.v.. Er wurde 2021 bereits zum 14. Mal vergeben. Eingereicht werden Serien mit je vier Motiven zu einem wechselnden Thema. Eine interdisziplinär und international besetzte Jury wählt bei jedem Wettbewerb die 28 besten Serien aus. Diese werden dann in einer Wanderausstellung gezeigt und in einem Katalog präsentiert. Die Ergebnisse haben auch 2021 wieder eine hohe Qualität und große Bandbreite an Interpretationen zum Thema gezeigt. Der EAP 2023 steht in den Startlöchern\, und das KAZimKUBA wird auch hier wieder Station sein. \nDer Fotograf Oliver Heinl aus dem fränkischen Rednitzhembach ist der Gewinner des Europäischen Architekturfotografie-Preis architekturbild 2021 »Das Urbane im Peripheren«. Eine Jury wählte seine Bildserie auf den ersten Platz. In dem international ausgeschriebenen und anonym durchgeführten Wettbewerb\, der mit 6000 Euro dotiert ist\, wurden außerdem zwei weitere Preise\, fünf Auszeichnungen und 20 Anerkennungen vergeben. Die Bildserie von Oliver Heinl\, so Jurymitglied Andreas Meichsner\, »adressiert fotografisch gekonnt das jährlich zunehmende Umweltproblem der Lichtverschmutzung. Zunächst verführen uns die malerischen Fotografien in ihrer scheinbaren Harmlosigkeit mit ländlicher Idylle und in der Ferne warm erleuchtetem Himmel. Sie lassen uns erst beim erneuten Hinsehen erkennen\, was eigentlich zu sehen ist. Die nächtlichen Langzeitbelichtungen der\nsolitär stehenden Gebäude deuten den Kontrast zur hell erleuchteten Stadt an. Die angenehm subtile Darstellung des Themas erlaubt ein Eintauchen in die Bilder und regt damit zur Auseinandersetzung und zum Nachdenken an\, ohne dabei mahnend oder lehrhaft sein zu wollen.« \nKooperationspartner Deutsche Architekturmuseum (DAM)\, Frankfurt am Main\nBundesstiftung Baukultur\, Potsdam\narchitekturbild e.v.
URL:https://dam-online.de/veranstaltung/dam-on-tour-in-kassel-das-urbane-im-peripheren-european-architectural-photography-prize-architekturbild-2021/
LOCATION:KAZimKUBA\, Hessenallee 2\, Kassel\, Hessen\, 3\, Deutschland
CATEGORIES:Veranstaltung
ATTACH;FMTTYPE=image/jpeg:https://dam-online.de/wp-content/uploads/2023/02/EAP2021_Oliver_Heinl_1-scaled.jpg
ORGANIZER;CN="Deutsches Architekturmuseum (DAM)":MAILTO:info.dam@stadt-frankfurt.de
END:VEVENT
END:VCALENDAR