BEGIN:VCALENDAR
VERSION:2.0
PRODID:-//DAM Online - ECPv6.15.20//NONSGML v1.0//EN
CALSCALE:GREGORIAN
METHOD:PUBLISH
X-ORIGINAL-URL:https://dam-online.de
X-WR-CALDESC:Veranstaltungen für DAM Online
REFRESH-INTERVAL;VALUE=DURATION:PT1H
X-Robots-Tag:noindex
X-PUBLISHED-TTL:PT1H
BEGIN:VTIMEZONE
TZID:Europe/Berlin
BEGIN:DAYLIGHT
TZOFFSETFROM:+0100
TZOFFSETTO:+0200
TZNAME:CEST
DTSTART:20230326T010000
END:DAYLIGHT
BEGIN:STANDARD
TZOFFSETFROM:+0200
TZOFFSETTO:+0100
TZNAME:CET
DTSTART:20231029T010000
END:STANDARD
BEGIN:DAYLIGHT
TZOFFSETFROM:+0100
TZOFFSETTO:+0200
TZNAME:CEST
DTSTART:20240331T010000
END:DAYLIGHT
BEGIN:STANDARD
TZOFFSETFROM:+0200
TZOFFSETTO:+0100
TZNAME:CET
DTSTART:20241027T010000
END:STANDARD
BEGIN:DAYLIGHT
TZOFFSETFROM:+0100
TZOFFSETTO:+0200
TZNAME:CEST
DTSTART:20250330T010000
END:DAYLIGHT
BEGIN:STANDARD
TZOFFSETFROM:+0200
TZOFFSETTO:+0100
TZNAME:CET
DTSTART:20251026T010000
END:STANDARD
END:VTIMEZONE
BEGIN:VEVENT
DTSTART;VALUE=DATE:20240609
DTEND;VALUE=DATE:20240725
DTSTAMP:20260423T071700
CREATED:20240531T111704Z
LAST-MODIFIED:20240603T125544Z
UID:10050094-1717891200-1721865599@dam-online.de
SUMMARY:DAM on Tour in Kressbronn: SCHÖN HIER. ARCHITEKTUR AUF DEM LAND
DESCRIPTION:9. JUNI bis 24. JULI 2024 \nGemeindebücherei\, Hemigkofener Straße 11\nRathaus\, Hauptstraße 19\nLände\, Seestraße 24  \nArchitektur im ländlichen Raum ist ein wenig beachtetes Thema. Das Deutsche Architekturmuseum (DAM) Frankfurt a. M. wollte dies mit seiner Ausstellung „Schön hier. Architektur auf dem Land“ ändern. Mit ausgewählten Beispielen aus ganz Europa wird seit 2022 gezeigt\, wie eine zeitgemäße\, ökologische und soziale dörflichen Infrastruktur geschaffen werden kann. Mit seiner Gemeindebücherei wurde auch ein Gebäude aus Kressbronn a. B. für die Ausstellung ausgewählt. Die gesamte Ausstellung ist nun auch an verschiedenen Standorten in Kressbronn a. B. zu sehen. Erweitert wird sie mit einer Fotoausstellung im öffentlichen Raum\, die ausgewählte Beispiele für modernes Bauen hier in der Region zeigen. Sie wurden von Kressbronner Architekten ausgewählt. Schautafeln entlang der Seestraße in Richtung Ortsmitte zeigen die ausgewählten architektonischen Beispiele. Die Schautafeln verbinden außerdem die verschiedenen Ausstellungsstandorte\, an denen die Ausstellung des DAM zu sehen ist. Die Ausstellung des DAM können Sie zu den üblichen Öffnungszeiten im Foyer des Rathauses\, im Obergeschoss der Gemeindebücherei und in der Galerie Lände kostenlos besichtigen.
URL:https://dam-online.de/veranstaltung/dam-on-tour-in-kressbronn-schoen-hier-architektur-auf-dem-land/
LOCATION:Gemeindebücherei Kressbronn\, Hemigkofener Straße 11\, Kressbronn am Bodensee\, 88079
CATEGORIES:Veranstaltung
ATTACH;FMTTYPE=image/jpeg:https://dam-online.de/wp-content/uploads/2021/08/BuechereiGundelsheim-01_c_StefanMeyer_web.jpg
ORGANIZER;CN="Deutsches Architekturmuseum (DAM)":MAILTO:info.dam@stadt-frankfurt.de
END:VEVENT
END:VCALENDAR