BEGIN:VCALENDAR
VERSION:2.0
PRODID:-//DAM Online - ECPv6.15.20//NONSGML v1.0//EN
CALSCALE:GREGORIAN
METHOD:PUBLISH
X-ORIGINAL-URL:https://dam-online.de
X-WR-CALDESC:Veranstaltungen für DAM Online
REFRESH-INTERVAL;VALUE=DURATION:PT1H
X-Robots-Tag:noindex
X-PUBLISHED-TTL:PT1H
BEGIN:VTIMEZONE
TZID:Europe/Berlin
BEGIN:DAYLIGHT
TZOFFSETFROM:+0100
TZOFFSETTO:+0200
TZNAME:CEST
DTSTART:20240331T010000
END:DAYLIGHT
BEGIN:STANDARD
TZOFFSETFROM:+0200
TZOFFSETTO:+0100
TZNAME:CET
DTSTART:20241027T010000
END:STANDARD
BEGIN:DAYLIGHT
TZOFFSETFROM:+0100
TZOFFSETTO:+0200
TZNAME:CEST
DTSTART:20250330T010000
END:DAYLIGHT
BEGIN:STANDARD
TZOFFSETFROM:+0200
TZOFFSETTO:+0100
TZNAME:CET
DTSTART:20251026T010000
END:STANDARD
BEGIN:DAYLIGHT
TZOFFSETFROM:+0100
TZOFFSETTO:+0200
TZNAME:CEST
DTSTART:20260329T010000
END:DAYLIGHT
BEGIN:STANDARD
TZOFFSETFROM:+0200
TZOFFSETTO:+0100
TZNAME:CET
DTSTART:20261025T010000
END:STANDARD
END:VTIMEZONE
BEGIN:VEVENT
DTSTART;VALUE=DATE:20251015
DTEND;VALUE=DATE:20251020
DTSTAMP:20260421T153308
CREATED:20250812T115808Z
LAST-MODIFIED:20251014T123110Z
UID:10050339-1760486400-1760918399@dam-online.de
SUMMARY:DAM ARCHITECTURAL BOOK AWARD 2025 AUSSTELLUNG DER PRÄMIERTEN BÜCHER AUF DER FRANKFURTER BUCHMESSE
DESCRIPTION:DAM ARCHITECTURAL BOOK AWARD 2025\nAUSSTELLUNG DER PRÄMIERTEN BÜCHER AUF DER FRANKFURTER BUCHMESSE\n15. OKT — 19. OKT 2025\nFrankfurter Buchmesse\nHalle 3.1\, Stand H121 \nAuch 2025 loben die Frankfurter Buchmesse und das Deutsche Architekturmuseum (DAM) wieder den internationalen DAM Architectural Book Award aus und rufen alle Kunst- und Architekturbuchverlage weltweit zur Teilnahme auf. Eine wechselnde Fachjury aus Vertretern des Deutschen Architekturmuseums sowie externen Experten bewertet die Einsendungen nach Kriterien wie Gestaltung\, inhaltliche Konzeption\, Material und Verarbeitungsqualität\, Grad an Innovation und Aktualität. \nAm 15. Oktober sind zunächst die Preisträger 2024 ausgestellt. Nach der Preisverleihung dann ab dem 16. Oktober präsentieren wir die Preisträger dieses Jahres – wir freuen uns auf Ihren Besuch! \nHier geht es zum Livestream der Preisverleihung \nMit freundlicher Unterstützung der Freunde des DAM.
URL:https://dam-online.de/veranstaltung/dam-architectural-book-award-2025-ausstellung/
LOCATION:Frankfurter Buchmesse\, Stand J1587\, Ludwig-Erhard-Anlage 1\, Frankfurt am Main\, 60327
CATEGORIES:Architekturpreis,Veranstaltung
ATTACH;FMTTYPE=image/jpeg:https://dam-online.de/wp-content/uploads/2025/08/DAM_Book-Award-_Buchmessenstand_Foto_MoritzBernoully_002-scaled.jpg
END:VEVENT
END:VCALENDAR