BEGIN:VCALENDAR
VERSION:2.0
PRODID:-//DAM Online - ECPv6.15.20//NONSGML v1.0//EN
CALSCALE:GREGORIAN
METHOD:PUBLISH
X-ORIGINAL-URL:https://dam-online.de
X-WR-CALDESC:Veranstaltungen für DAM Online
REFRESH-INTERVAL;VALUE=DURATION:PT1H
X-Robots-Tag:noindex
X-PUBLISHED-TTL:PT1H
BEGIN:VTIMEZONE
TZID:Europe/Berlin
BEGIN:DAYLIGHT
TZOFFSETFROM:+0100
TZOFFSETTO:+0200
TZNAME:CEST
DTSTART:20220327T010000
END:DAYLIGHT
BEGIN:STANDARD
TZOFFSETFROM:+0200
TZOFFSETTO:+0100
TZNAME:CET
DTSTART:20221030T010000
END:STANDARD
BEGIN:DAYLIGHT
TZOFFSETFROM:+0100
TZOFFSETTO:+0200
TZNAME:CEST
DTSTART:20230326T010000
END:DAYLIGHT
BEGIN:STANDARD
TZOFFSETFROM:+0200
TZOFFSETTO:+0100
TZNAME:CET
DTSTART:20231029T010000
END:STANDARD
BEGIN:DAYLIGHT
TZOFFSETFROM:+0100
TZOFFSETTO:+0200
TZNAME:CEST
DTSTART:20240331T010000
END:DAYLIGHT
BEGIN:STANDARD
TZOFFSETFROM:+0200
TZOFFSETTO:+0100
TZNAME:CET
DTSTART:20241027T010000
END:STANDARD
END:VTIMEZONE
BEGIN:VEVENT
DTSTART;TZID=Europe/Berlin:20230923T100000
DTEND;TZID=Europe/Berlin:20230923T160000
DTSTAMP:20260419T171835
CREATED:20230803T091602Z
LAST-MODIFIED:20230803T092344Z
UID:10049987-1695463200-1695484800@dam-online.de
SUMMARY:DAM-Werkstatt unterwegs
DESCRIPTION:DAM-Werkstatt unterwegs\nSa\, 23. September 2023\, 10-16 Uhr\nKurt-Schumacher-Straße 10\, Frankfurt (Dezernat Planen und Wohnen)\nTeilnahme: Kostenfrei \nAm 23. September wird das DAM zu Gast bei der Infobörse des Netzwerks Gemeinschaftliches Wohnen Frankfurt e.V. sein. Ausgerüstet mit viel Material\, bieten wir Kindern die Möglichkeit\, sich gestalterisch mit dem Thema WOHNEN zu beschäftigen. \nEs gibt viele verschiedene Arten zu Wohnen: Man kann alleine oder zusammen mit anderen\, auf dem Land mit Schafen und Ziegen oder mitten in der Stadt mit einer Bäckerei im Haus wohnen. Man kann seinen eigenen Gemüsegarten vor der Tür oder ein Schwimmbad mit Nachbarn hoch oben auf dem Dach haben. \nKurz gesagt: Wir wohnen alle\, der Unterschied liegt im „Wie“. – Im Rahmen dieses Angebotes können Kinder Räume zeichnerisch gestalten. Was brauchen sie? Was wünschen sie sich? Was könnte geteilt werden? Die Ergebnisse werden zusammengeführt und ergeben bunte Kollagen. \nWeitere Informationen unter: Infoboerse – Netzwerk Frankfurt für Gemeinschaftliches Wohnen e.V. (gemeinschaftliches-wohnen.de) 
URL:https://dam-online.de/veranstaltung/dam-werkstatt-unterwegs/
LOCATION:Dezernat Planen und Wohnen\, Kurt-Schumacher-Str. 10\, Frankfurt am Main\, Hessen\, 60311\, Deutschland
CATEGORIES:Kinder, Jugendliche & Familien,Veranstaltung,Vermittlung
ATTACH;FMTTYPE=image/png:https://dam-online.de/wp-content/uploads/2023/08/230923_PIC_Gemeinschaftliches-WOhnen.png
ORGANIZER;CN="Deutsches Architekturmuseum (DAM)":MAILTO:info.dam@stadt-frankfurt.de
END:VEVENT
END:VCALENDAR