BEGIN:VCALENDAR
VERSION:2.0
PRODID:-//DAM Online - ECPv6.15.20//NONSGML v1.0//EN
CALSCALE:GREGORIAN
METHOD:PUBLISH
X-WR-CALNAME:DAM Online
X-ORIGINAL-URL:https://dam-online.de
X-WR-CALDESC:Veranstaltungen für DAM Online
REFRESH-INTERVAL;VALUE=DURATION:PT1H
X-Robots-Tag:noindex
X-PUBLISHED-TTL:PT1H
BEGIN:VTIMEZONE
TZID:Europe/Berlin
BEGIN:DAYLIGHT
TZOFFSETFROM:+0100
TZOFFSETTO:+0200
TZNAME:CEST
DTSTART:20200329T010000
END:DAYLIGHT
BEGIN:STANDARD
TZOFFSETFROM:+0200
TZOFFSETTO:+0100
TZNAME:CET
DTSTART:20201025T010000
END:STANDARD
BEGIN:DAYLIGHT
TZOFFSETFROM:+0100
TZOFFSETTO:+0200
TZNAME:CEST
DTSTART:20210328T010000
END:DAYLIGHT
BEGIN:STANDARD
TZOFFSETFROM:+0200
TZOFFSETTO:+0100
TZNAME:CET
DTSTART:20211031T010000
END:STANDARD
BEGIN:DAYLIGHT
TZOFFSETFROM:+0100
TZOFFSETTO:+0200
TZNAME:CEST
DTSTART:20220327T010000
END:DAYLIGHT
BEGIN:STANDARD
TZOFFSETFROM:+0200
TZOFFSETTO:+0100
TZNAME:CET
DTSTART:20221030T010000
END:STANDARD
END:VTIMEZONE
BEGIN:VEVENT
DTSTART;VALUE=DATE:20210123
DTEND;VALUE=DATE:20210712
DTSTAMP:20260419T172555
CREATED:20200716T102738Z
LAST-MODIFIED:20230221T103428Z
UID:10049404-1611360000-1626047999@dam-online.de
SUMMARY:EINFACH GRÜN - Greening the City
DESCRIPTION:Besuch\n\n\n	\n\n		\nInfos & ServicesFührungenMuseumsshopCaféKontaktDAM Aktuell\n	...	\n \n		\n\n		\nÖffnungszeitenWird geladen ...\n \n\n\nWird geladen ...\n\n	\n    	            \n                                    \n                                    \n                                    \n                            \n                        \n                                    \n                                    \n                                    \n                            \n                        \n                                    \n                                    \n                                    \n                            \n                        \n                                    \n                                    \n                                    \n                            \n                        \n                                    \n                                    \n                                    \n                            \n                        \n                                    \n                                    \n                                    \n                            \n                        \n                                    \n                                    \n                                    \n                            \n                        \n                                    \n                                    \n                                    \n                            \n                        \n                                    \n                                    \n                                    \n                            \n                        \n                                    \n                                    \n                                    \n                            \n                        \n                                    \n                                    \n                                    \n                            \n                        \n                                    \n                                    \n                                    \n                            \n            \n\n \n\n\n\n\n\n\nHeiligabend\, 1. Weihnachtsfeiertag und 1. Januar GESCHLOSSEN!\n Anfahrt			\n				Deutsches Architekturmuseum (DAM)\n				Schaumainkai 43\n				60596 Frankfurt am Main\n				\n				\n				\n				Stadtplan\n			 Kontakt			\n				T 069 212 38844\n			info.dam@stadt-frankfurt.de\n			 		\n\n		\n		\n	\n\nProgramm\n\n\n	\n\n		\nAusstellungenVeranstaltungenArchitekturpreisePublikationenDAM Digital		\n\n		\n\n\n\n\n\nAfterwork-Zumba der FTG Frankfurt22. April – 18:30 – 20:00NACHT DER MUSEEN25. April – 19:00 – 26. April – 2:00\n\n \n\n		\n\n		\n		\n	\n\n	\n\n		\nFoto: Fritz Philipp \n				\n				\n				\n				\n				\n\nEs sind keine anstehenden Veranstaltungen vorhanden.\n\n\n\n\n\n\n\n\n			\n				\n				\n				\n				\n				\n\nEs sind keine anstehenden Veranstaltungen vorhanden.\n\n\n\n			Architekturpreise aktuell:Nächste Veranstaltung:NEUER MENSCH\, NEUE WOHNUNG\n\n				\n	\n\n	\n\n		\nDAM im Stadtraum		\n	\n\nBildung\n\n\n	\n\n		\nErwachseneKinder\, Jugendliche & FamilienSchule & KitaFührungen & TourenPublikationenAnsprechpartner		\n\n		\nKontakt\nConfiyet Aydin\, M.A.\nStellvertretende Leitung Bildung und Vermittlungconfiyet.aydin@stadt-frankfurt.deT +49 (0)69 212-31076\n \n\nNächste Veranstaltung\n\nBlock Lab Minecraft Workshop: DAS HAUS24. April – 16:00 – 18:00After Work Führung: SUBURBIA29. April – 17:00\n\n  		\n\n		\n		\n	\n\n	\n\n		\nNächste Veranstaltung		\n	\n\nSammlungen\n\n\n	\n\n		\nDAM ArchivDAM Sammlung DigitalDAM Bibliothek		\n\n		\nDAM Archiv				\n				Hedderichstraße 108-110\n				60596 Frankfurt am Main\n				dam.archiv@stadt-frankfurt.de\n				 \n				\n				Archivleitung\n				Dr. Katja Leiskau\n				dam.archiv@stadt-frankfurt.de\n				T +49 (0)69 212-30831\n				 \n				\n				DAM Bibliothek			\n				Hedderichstraße 108-110\n				60596 Frankfurt am Main\n				dam.bibliothek@stadt-frankfurt.de\n			 \n			\n				Christiane Eulig\,\n				Bibliothekarin\n				T +49 (0)69 212-30827\n				christiane.eulig@stadt-frankfurt.de\n			 		\n\n		\n		\n	\n\nDas DAM\n\n\n	\n\n		\nPortraitTeamFreunde des DAMSponsoren und UnterstützerJobs		\n\n		\nFreund werden		\n\n		\n		\n	\n\n	\n	\n\n \n			\n			\n				\n				\n				\n				\n			\n				\n				\n			\n				\n				\n				\n				\n				\n				\n				\n				\n				\n				\n				\n				\n					\n					\n						\n						EINFACH GRÜN\n						Greening the City\n						\n						\n					\n				\n					\n				\n				\n				\n			\n				\n				\n			\n				\n				\n				\n				\n				\n				\n				\n				\n				\n				\n				\n				\n				\n				\n				\n				\n				\n				23. Januar – 11. Juli 2021\nKann GRÜN in der Architektur das Klima in den Städten verbessern\, Hitzebildung reduzieren\, Feinstaubbildung reduzieren und das Wohlbefinden der Menschen steigern? Selten waren Grünräume derart gefragt wie seit der Konfrontation mit Corona. Es ist an der Zeit\, die Architektur im Hinblick auf Grünflächen zu entwickeln\, die Stadtlandschaften aufzurüsten und GRÜN nicht nur auf ökologische Aspekte herunter zu brechen. \nDie Ausstellung widmet sich den Vorteilen und Herausforderungen urbanen städtischen GRÜNS – insbesondere der Haus-  und Dachbegrünung im Bestand und Neubau. Neben der wissenschaftlichen Perspektive nimmt die Ausstellung zugleich die technischen Möglichkeiten und praktische Fragen in den Blick. Gezeigt werden gelungene Grünbauten von Düsseldorf über Mailand bis Singapore\, bereits Erprobtes und völlig neue Entwicklungen. \nCALL FOR PROJECTS: \nDass Parks und Gärten GRÜN sind\, davon gehen wir aus. Doch GRÜN erobert immer mehr die Architektur der Städte: Wo vor kurzem noch das graue Kiesdach und die Betonfassade die Sonne reflektierten\, wuchern Kräuter\, ganze Baumlandschaften und Hängepflanzen. Wo vor Jahren der weiße Hausgiebel strahlte\, rankt der wilde Wein und in den Höfen wetteifern Gemüse und Rankgewächse um jeden Sonnenstrahl. Über die Begrünung von Bestandsgebäuden hinaus setzen sich auch im Neubau komplexe horizontale oder vertikale Grünsysteme durch. Wo genau sind diese grünen Inseln\, die dem klimatischen Verhältnis von Architektur\, Bewohnern und Nutzern so positiv zuträglich und von den Straßen oft wenig einsehbar sind? Wer sind die Initiatoren\, wie haben sie es angestellt und wozu dienen die grünen Dächer und Fassaden? \nSchon vor Beginn der Ausstellung ruft das DAM zum Einreichen von Projekten auf. Die Beiträge werden von einer Jury bewertet und die Preisträger in der Ausstellung im DAM präsentiert. \nWeitere Informationen und Projekteinreichung unter: einfach-gruen.jetzt \nRückfragen bitte an: projects@einfach-gruen.jetzt  \nDie Ausstellung ist eine Kooperation mit der Forschungsabteilung des Internationalen Planungs- und Beratungsbüros Arup „Green Building Envelopes“ und mit dem Umweltamt der Stadt Frankfurt am Main. Die Kuratoren der Ausstellung sind Hilde Strobl und Rudi Scheuermann. \nDas Begleitprogramm zur Ausstellung EINFACH GRÜN finden Sie hier: Begleitprogramm EINFACH GRÜN \n			\n				\n				\n				\n				\n				Eindrücke von der Ausstellung\n\n			\n				\n					\n					\n					\n				\n				Ausstellung Einfach GrünFoto: Moritz Bernoully \n					\n					\n					\n				\n				Ausstellung Einfach GrünFoto: Moritz Bernoully \n					\n					\n					\n				\n				Ausstellung Einfach GrünFoto: Moritz Bernoully \n					\n					\n					\n				\n				Ausstellung Einfach GrünFoto: Moritz Bernoully \n					\n					\n					\n				\n				Ausstellung Einfach GrünFoto: Moritz Bernoully \n					\n					\n					\n				\n				Ausstellung Einfach GrünFoto: Moritz Bernoully \n					\n					\n					\n				\n				Ausstellung Einfach GrünFoto: Moritz Bernoully \n					\n					\n					\n				\n				Ausstellung Einfach GrünFoto: Moritz Bernoully \n					\n					\n					\n				\n				Ausstellung Einfach GrünFoto: Moritz Bernoully \n			\n				\n				\n				\n				\n			\n				\n				\n				\n				\n				\n				\n				\n				\n				\n				\n				Videos zur Ausstellung\n\n			\n			\n				\n				\n				\n				\n			\n				\n				\n				\n				\n				\n				\n				\n				\n				\n				\n				\n				\n			\n				\n				\n				\n				\n				\n				\n			\n				\n				\n				\n				\n				\n				\n			\n				\n				\n				\n				\n				\n				\n			\n				\n				\n				\n				\n				\n				\n			\n				\n				\n				\n				\n				\n				\n			\n				\n				\n				\n				\n				\n				\n			\n			\n				\n				\n				\n				\n				\n				\n				\n				\n				\n				\n				\n			\n				\n				\n				\n				\n				\n				\n			\n				\n				\n				\n				\n				\n				\n			\n				\n				\n				\n				\n				\n				\n			\n				\n				\n				\n				\n				\n				\n			\n				\n				\n				\n				\n				\n				\n			\n			\n				\n				\n				\n				\n			\n				\n				\n				\n				\n				\n				\n				\n				\n				\n				\n				Begleitprogramm\n\n			\n				\n				\n				\n				\n				Es sind keine anstehenden Veranstaltungen vorhanden. \n			\n			\n				\n				\n				\n				\n			\n				\n				\n			\n				\n				\n				\n				\n				\n				\n				\n				\n				\n				\n				\n				\n				\n				\n				\n				\n				\n				Weitere Ausstellungen\n\n\n\n\n\n\n\n	\n					\n			\n                \n                                                                                \n			\n				\n			\n				PAULSKIRCHE. Demokratie\, Debatte\, Denkmal\n			\n							\n										28. Juni 2022 – 31. Dezember 2030									\n												                \n                                                                    Die Frankfurter Paulskirche gilt als eines der wichtigsten Demokratiedenkmale Deutschlands.                                    \n			                    \n	\n\n\n\n\n\n\n	\n					\n			\n                \n                                                                                \n			\n				\n			\n				DAM Preis 2026\n			\n							\n										31. Januar – 28. Juni									\n												                \n                                                                    Seit 2007 werden mit dem DAM Preis für Architektur in Deutschland jährlich herausragende Bauten in...                                    \n			                    \n	\n\n\n\n\n\n\n	\n					\n			\n                \n                                                                                \n			\n				\n			\n				DIE STADT IST DER SPORT. STÄDTE IN BEWEGUNG: BEISPIELE AUS GANZ EUROPA\n			\n							\n										21. Februar – 7. Juni									\n												                \n                                                                    Sport und Bewegung sind wichtige Elemente für ein aktives Miteinander und das Zusammenleben der Sta...                                    \n			                    \n	\n\n\n\n\n\n\n	\n					\n			\n                \n                                                                                \n			\n				\n			\n				SUBURBIA TRÄUME VOM EIGENHEIM – WEGE AUS DER WOHNUNGSKRISE\n			\n							\n										21. März – 18. Oktober									\n												                \n                                                                    Saftiger Rasen\, blauer Pool\, Doppelgarage: Suburbia taucht ein in die (Bild-)Welten der US-amerikani...
URL:https://dam-online.de/veranstaltung/einfach-gruen/
LOCATION:DAM Schaumainkai
CATEGORIES:Ausstellung
ATTACH;FMTTYPE=image/jpeg:https://dam-online.de/wp-content/uploads/2020/07/DAM_Greening-the-City_Pocket-Habitat-_Thomas-Graham_Arup_Header-1.jpg
END:VEVENT
BEGIN:VEVENT
DTSTART;TZID=Europe/Berlin:20210122T180000
DTEND;TZID=Europe/Berlin:20210122T200000
DTSTAMP:20260419T172557
CREATED:20210112T091557Z
LAST-MODIFIED:20210120T103811Z
UID:10049457-1611338400-1611345600@dam-online.de
SUMMARY:Digitale Ausstellungseröffnung: Einfach Grün - Greening the City
DESCRIPTION:EINFACH GRÜN – Greening the City\nDIGITALE AUSSTELLUNGSERÖFFNUNG \n22. Januar 2021\, 18 Uhr\nLivestream:\nwww.facebook.com/architekturmuseum\nwww.youtube.com/c/DeutschesArchitekturmuseumDAM \nKann GRÜN in der Architektur das Klima in den Städten verbessern\, Hitzebildung reduzieren\, Feinstaubbildung reduzieren und das Wohlbefinden der Menschen steigern? Selten waren Grünräume derart gefragt wie seit der Konfrontation mit Corona. Es ist an der Zeit\, die Architektur im Hinblick auf Grünflächen zu entwickeln\, die Stadtlandschaften aufzurüsten und GRÜN nicht nur auf ökologische Aspekte herunter zu brechen. \nDie Ausstellung widmet sich den Vorteilen und Herausforderungen urbanen städtischen GRÜNS – insbesondere der Haus-  und Dachbegrünung im Bestand und Neubau. Neben der wissenschaftlichen Perspektive nimmt die Ausstellung zugleich die technischen Möglichkeiten und praktische Fragen in den Blick. Gezeigt werden gelungene Grünbauten von Düsseldorf über Mailand bis Singapore\, bereits Erprobtes und völlig neue Entwicklungen. \nBegrüßung / Einführung: Peter Cachola Schmal\, Direktor Deutsches Architekturmuseum \nErläuterung der Kooperation: Lara Maria Mohr / Peter Dommermuth\, Umweltamt der Stadt Frankfurt \nPräsentation „Einfach Grün“: Rudi Scheuermann\, Director und Global Leader Building Envelope Design bei Arup. \nInterview: Stefano Boeri\, Architekt\, Architekturprofessor und Autor \nPräsentation Ausstellungsinhalte: Hilde Strobl\, freie Kuratorin \nInterview: Mun Summ Wong / Richard Hassel\, WOHA \nVirtueller Ausstellungsrundgang: Film von Moritz Bernoully\, Fotograf
URL:https://dam-online.de/veranstaltung/digitale-ausstellungseroeffnung-einfach-gruen/
LOCATION:DAM Schaumainkai
CATEGORIES:Veranstaltung
ATTACH;FMTTYPE=image/jpeg:https://dam-online.de/wp-content/uploads/2020/12/DAM_EinfachGruen_PocketHabitat_FotoThomas_Graham_Arup_Mini.jpg
END:VEVENT
END:VCALENDAR