BEGIN:VCALENDAR
VERSION:2.0
PRODID:-//DAM Online - ECPv6.15.20//NONSGML v1.0//EN
CALSCALE:GREGORIAN
METHOD:PUBLISH
X-WR-CALNAME:DAM Online
X-ORIGINAL-URL:https://dam-online.de
X-WR-CALDESC:Veranstaltungen für DAM Online
REFRESH-INTERVAL;VALUE=DURATION:PT1H
X-Robots-Tag:noindex
X-PUBLISHED-TTL:PT1H
BEGIN:VTIMEZONE
TZID:Europe/Berlin
BEGIN:DAYLIGHT
TZOFFSETFROM:+0100
TZOFFSETTO:+0200
TZNAME:CEST
DTSTART:20200329T010000
END:DAYLIGHT
BEGIN:STANDARD
TZOFFSETFROM:+0200
TZOFFSETTO:+0100
TZNAME:CET
DTSTART:20201025T010000
END:STANDARD
BEGIN:DAYLIGHT
TZOFFSETFROM:+0100
TZOFFSETTO:+0200
TZNAME:CEST
DTSTART:20210328T010000
END:DAYLIGHT
BEGIN:STANDARD
TZOFFSETFROM:+0200
TZOFFSETTO:+0100
TZNAME:CET
DTSTART:20211031T010000
END:STANDARD
BEGIN:DAYLIGHT
TZOFFSETFROM:+0100
TZOFFSETTO:+0200
TZNAME:CEST
DTSTART:20220327T010000
END:DAYLIGHT
BEGIN:STANDARD
TZOFFSETFROM:+0200
TZOFFSETTO:+0100
TZNAME:CET
DTSTART:20221030T010000
END:STANDARD
BEGIN:DAYLIGHT
TZOFFSETFROM:+0100
TZOFFSETTO:+0200
TZNAME:CEST
DTSTART:20230326T010000
END:DAYLIGHT
BEGIN:STANDARD
TZOFFSETFROM:+0200
TZOFFSETTO:+0100
TZNAME:CET
DTSTART:20231029T010000
END:STANDARD
END:VTIMEZONE
BEGIN:VEVENT
DTSTART;TZID=Europe/Berlin:20220127T180000
DTEND;TZID=Europe/Berlin:20220127T180000
DTSTAMP:20260422T015435
CREATED:20211123T114348Z
LAST-MODIFIED:20211123T114348Z
UID:10048792-1643306400-1643306400@dam-online.de
SUMMARY:Architectures of Order: Practices and Discourses between Design and Knowledge. Objektarchitekturen\, Wissenskonstellationen. Der museale Raum der Kunst- und Naturalienkammern in Theorie und Praxis
DESCRIPTION:Objektarchitekturen\, Wissenskonstellationen. Der museale Raum der Kunst- und Naturalienkammern in Theorie und Praxis\nDonnerstag\, 27. Januar 2021\, 18 Uhr\nEVA DOLEZEL\nStaatliche Museen zu Berlin\, DFG-Projekt „Das Fenster zur Natur und Kunst“\nOnline: Meeting-Registrierung – Zoom \nUnser alltägliches Leben wird in nicht unerheblichem Maße von der architektonischen Konfiguration des uns umgebenden Raums beeinflusst. Hierbei handelt es sich\njedoch nur selten um das Produkt zufälliger und nicht intendierter Umstände. So müssen sich Architekt_innen\, die sich mit der baulichen Gestaltung von Regierungsund Behördengebäuden\, städtischen Räumen\, Bibliotheken oder anderen Formen des Gebauten auseinandersetzen\, seit jeher nicht nur nach ästhetischen\, sondern\ngleichermaßen nach funktionalen Anforderungen und Bedürfnissen richten\, die an die von ihnen entworfenen Bauten und Architekturen gestellt werden. Resultat sind\nsich architektonisch manifestierende Räume\, die unter anderem politisch-soziale Ordnungen und Idealvorstellungen widerspiegeln und konstituieren sollen oder in\nHinblick auf spezifische Formen der Machtausübung und Machtsicherung gestaltet werden. \nDer LOEWE-Schwerpunkt „Architekturen des Ordnens: Praktiken und Diskurse zwischen Entwerfen und Wissen“\, ein Forschungsprojekt der Goethe-Universität\nFrankfurt und Technischen Universität Darmstadt\, mit dem Max-Planck-Institut für Rechtsgeschichte und Rechtstheorie und dem Deutschen Architekturmuseum\nals außeruniversitären Partnern\, hat sich im Rahmen des Jahresthemas 2021 „Gebaute Ordnung“ in der ersten Jahreshälfte mit verschiedenen Räumen der Macht\nauseinandergesetzt. In der zweiten Jahreshälfte stehen „Speicher des Wissens“ im Mittelpunkt. \nDen Ausgangspunkt für die thematische Ausrichtung der Ringvorlesung „Gebaute Ordnung: Speicher des Wissens“ im Wintersemester 2021/22 bildet die Feststellung\,\ndass Architektur Wissen räumlich konfiguriert und damit wesentlichen Anteil an der Modulierung\, Durchsetzung\, Kanonisierung und Institutionalisierung epistemischer Modelle hat. Archive\, Bibliotheken\, Museen und Universitäten können als materialisierte Wissensordnungen aufgefasst werden: Das gesammelte\, ausgewählte\, geordnete\, erschlossene und vermittelte Wissen wird räumlich gefasst. \nUntersucht werden soll\, inwiefern die konkrete architektonische Rahmung auf Organisations- oder Wissensstrukturen zurückwirkt. Im Rahmen von vier Abendvorträgen\, die reale\, theoretische und utopische Wissensordnungen und deren architektonische Konfiguration in den Blick nehmen\, wird dem wechselseitigen Verhältnis von gebauten Räumen und\nOrdnungsvorstellungen nachgegangen. Ergänzt wird das Programm durch eine Veranstaltung mit dem „Center for Critical Studies in Architecture“ (CCSA)\, das innerhalb der Reihe CCSA Talks aktuelle Forschungsarbeiten und Veröffentlichungen vorstellt und sie mit Gästen diskutiert.
URL:https://dam-online.de/veranstaltung/architectures-of-order-practices-and-discourses-between-design-and-knowledge-objektarchitekturen-wissenskonstellationen-der-museale-raum-der-kunst-und-naturalienkammern-in-theorie-und-praxis/
LOCATION:Privat:\, Henschelstr. 18\, Frankfurt am Main\, Hessen\, 60594\, Deutschland
CATEGORIES:Veranstaltung
ATTACH;FMTTYPE=image/jpeg:https://dam-online.de/wp-content/uploads/2021/11/ARC-MUND-EUMP-7073-25-600x575-1.jpg
END:VEVENT
BEGIN:VEVENT
DTSTART;TZID=Europe/Berlin:20220120T180000
DTEND;TZID=Europe/Berlin:20220120T180000
DTSTAMP:20260422T015435
CREATED:20211122T105115Z
LAST-MODIFIED:20211122T110223Z
UID:10048781-1642701600-1642701600@dam-online.de
SUMMARY:CCSA Talk: Plexiglas und Kameras. Theodore Conrad\, Louis Checkman und der New  Yorker Architekturmodellboom 1950–1970
DESCRIPTION:CCSA Talk: Plexiglas und Kameras. Theodore Conrad\, Louis Checkman und der New Yorker Architekturmodellboom 1950–1970\nDO 20.01.2022\, 18:00\nOnline: Meeting-Registrierung – Zoom\nTeresa Fankhänel mit Anna-Maria Meister und Oliver Elser \nUnser alltägliches Leben wird in nicht unerheblichem Maße von der architektonischen Konfiguration des uns umgebenden Raums beeinflusst. Hierbei handelt es sich jedoch nur selten um das Produkt zufälliger und nicht intendierter Umstände. So müssen sich Architekt_innen\, die sich mit der baulichen Gestaltung von Regierungs- und Behördengebäuden\, städtischen Räumen\, Bibliotheken oder anderen Formen\ndes Gebauten auseinandersetzen\, seit jeher nicht nur nach ästhetischen\, sondern gleichermaßen nach funktionalen Anforderungen und Bedürfnissen richten\, die an die von ihnen entworfenen Bauten und Architekturen gestellt werden. Resultat sind sich architektonisch manifestierende Räume\, die unter anderem politisch-soziale Ordnungen und Idealvorstellungen widerspiegeln und konstituieren sollen oder in\nHinblick auf spezifische Formen der Machtausübung und Machtsicherung gestaltet werden. \nDer LOEWE-Schwerpunkt „Architekturen des Ordnens: Praktiken und Diskurse zwischen Entwerfen und Wissen“\, ein Forschungsprojekt der Goethe-Universität Frankfurt und Technischen Universität Darmstadt\, mit dem Max-Planck-Institut für Rechtsgeschichte und Rechtstheorie und dem Deutschen Architekturmuseum als außeruniversitären Partnern\, hat sich im Rahmen des Jahresthemas 2021 „Gebaute Ordnung“ in der ersten Jahreshälfte mit verschiedenen Räumen der Macht auseinandergesetzt. In der zweiten Jahreshälfte stehen „Speicher des Wissens“ im Mittelpunkt. Den Ausgangspunkt für die thematische Ausrichtung der Ringvorlesung „Gebaute Ordnung: Speicher des Wissens“ im Wintersemester 2021/22 bildet die Feststellung\, dass Architektur Wissen räumlich konfiguriert und damit wesentlichen Anteil an der Modulierung\, Durchsetzung\, Kanonisierung und Institutionalisierung epistemischer Modelle hat. Archive\, Bibliotheken\, Museen und Universitäten können als materialisierte Wissensordnungen aufgefasst werden: Das gesammelte\,\nausgewählte\, geordnete\, erschlossene und vermittelte Wissen wird räumlich gefasst. Untersucht werden soll\, inwiefern die konkrete architektonische Rahmung auf Organisations- oder Wissensstrukturen zurückwirkt. \nIm Rahmen von vier Abendvorträgen\, die reale\, theoretische und utopische Wissensordnungen und deren architektonische Konfiguration in den Blick nehmen\, wird dem wechselseitigen Verhältnis von gebauten Räumen und Ordnungsvorstellungen nachgegangen. \nErgänzt wird das Programm durch eine Veranstaltung mit dem „Center for Critical Studies in Architecture“ (CCSA)\, das innerhalb der Reihe CCSA Talks aktuelle Forschungsarbeiten und Veröffentlichungen vorstellt und sie mit Gästen diskutiert.
URL:https://dam-online.de/veranstaltung/ccsa-talk-plexiglas-und-kameras-theodore-conrad-louis-checkman-und-der-new-yorker-architekturmodellboom-1950-1970/
LOCATION:Privat:\, Henschelstr. 18\, Frankfurt am Main\, Hessen\, 60594\, Deutschland
CATEGORIES:Veranstaltung
ATTACH;FMTTYPE=image/png:https://dam-online.de/wp-content/uploads/2021/10/CCSA.png
END:VEVENT
BEGIN:VEVENT
DTSTART;TZID=Europe/Berlin:20220113T180000
DTEND;TZID=Europe/Berlin:20220113T180000
DTSTAMP:20260422T015435
CREATED:20211123T112803Z
LAST-MODIFIED:20211123T112905Z
UID:10048789-1642096800-1642096800@dam-online.de
SUMMARY:Architectures of Order: Practices and Discourses between Design and Knowledge. Gebaute Welt- und Wissensordnung. Architekturen der Weltausstellungen im 19. Jahrhundert
DESCRIPTION:Gebaute Welt- und Wissensordnung. Architekturen der Weltausstellungen im 19. Jahrhundert.\nDonnerstag\, 13. Januar 2021\, 18 Uhr\nKIRSTEN WAGNER\nFachbereich Gestaltung der Fachhochschule Bielefeld\nOnline: Meeting-Registrierung – Zoom \nUnser alltägliches Leben wird in nicht unerheblichem Maße von der architektonischen Konfiguration des uns umgebenden Raums beeinflusst. Hierbei handelt es sich\njedoch nur selten um das Produkt zufälliger und nicht intendierter Umstände. So müssen sich Architekt_innen\, die sich mit der baulichen Gestaltung von Regierungsund Behördengebäuden\, städtischen Räumen\, Bibliotheken oder anderen Formen des Gebauten auseinandersetzen\, seit jeher nicht nur nach ästhetischen\, sondern\ngleichermaßen nach funktionalen Anforderungen und Bedürfnissen richten\, die an die von ihnen entworfenen Bauten und Architekturen gestellt werden. Resultat sind\nsich architektonisch manifestierende Räume\, die unter anderem politisch-soziale Ordnungen und Idealvorstellungen widerspiegeln und konstituieren sollen oder in\nHinblick auf spezifische Formen der Machtausübung und Machtsicherung gestaltet werden. \nDer LOEWE-Schwerpunkt „Architekturen des Ordnens: Praktiken und Diskurse zwischen Entwerfen und Wissen“\, ein Forschungsprojekt der Goethe-Universität\nFrankfurt und Technischen Universität Darmstadt\, mit dem Max-Planck-Institut für Rechtsgeschichte und Rechtstheorie und dem Deutschen Architekturmuseum\nals außeruniversitären Partnern\, hat sich im Rahmen des Jahresthemas 2021 „Gebaute Ordnung“ in der ersten Jahreshälfte mit verschiedenen Räumen der Macht\nauseinandergesetzt. In der zweiten Jahreshälfte stehen „Speicher des Wissens“ im Mittelpunkt. \nDen Ausgangspunkt für die thematische Ausrichtung der Ringvorlesung „Gebaute Ordnung: Speicher des Wissens“ im Wintersemester 2021/22 bildet die Feststellung\,\ndass Architektur Wissen räumlich konfiguriert und damit wesentlichen Anteil an der Modulierung\, Durchsetzung\, Kanonisierung und Institutionalisierung epistemischer Modelle hat. Archive\, Bibliotheken\, Museen und Universitäten können als materialisierte Wissensordnungen aufgefasst werden: Das gesammelte\, ausgewählte\, geordnete\, erschlossene und vermittelte Wissen wird räumlich gefasst. \nUntersucht werden soll\, inwiefern die konkrete architektonische Rahmung auf Organisations- oder Wissensstrukturen zurückwirkt. Im Rahmen von vier Abendvorträgen\, die reale\, theoretische und utopische Wissensordnungen und deren architektonische Konfiguration in den Blick nehmen\, wird dem wechselseitigen Verhältnis von gebauten Räumen und\nOrdnungsvorstellungen nachgegangen. Ergänzt wird das Programm durch eine Veranstaltung mit dem „Center for Critical Studies in Architecture“ (CCSA)\, das innerhalb der Reihe CCSA Talks aktuelle Forschungsarbeiten und Veröffentlichungen vorstellt und sie mit Gästen diskutiert.
URL:https://dam-online.de/veranstaltung/architectures-of-order-practices-and-discourses-between-design-and-knowledge-gebaute-welt-und-wissensordnung-architekturen-der-weltausstellungen-im-19-jahrhundert/
LOCATION:Privat:\, Henschelstr. 18\, Frankfurt am Main\, Hessen\, 60594\, Deutschland
CATEGORIES:Veranstaltung
ATTACH;FMTTYPE=image/jpeg:https://dam-online.de/wp-content/uploads/2021/11/ARC-MUND-EUMP-7073-25-600x575-1.jpg
END:VEVENT
BEGIN:VEVENT
DTSTART;TZID=Europe/Berlin:20211201T180000
DTEND;TZID=Europe/Berlin:20211201T180000
DTSTAMP:20260422T015435
CREATED:20211123T104044Z
LAST-MODIFIED:20211123T111146Z
UID:10048785-1638381600-1638381600@dam-online.de
SUMMARY:Architectures of Order: Practices and Discourses between Design and Knowledge "Reading Place"
DESCRIPTION:Architectures of Order: Practices and Discourses between Design and Knowledge „Reading Place“\n1. Dezember 2021\, 18 Uhr\nOnline: ZOOM \nPHILIPPE VIÉRIN \n\nWith regard to the theme of this lecture series ‘Built Order. Storing Knowledge‘ we will talk about re-use projects of mostly monumental heritage. Buildings that carry knowledge of the city. How can we try to activate and interpret this knowledge in a natural way. Furthermore we are interested in the way an existing building can influence our approach to the programme. It is a way of thinking beyond the typical ‚typology‘\, and of ordering the world with what is available. \nPhilippe Viérin (1969\, Bruges\, Belgium) graduated from Ghent University in 1992 and worked for Stéphane Beel in Bruges and KCAP in Rotterdam. Besides being a partner at noAarchitecten since 2000 he also runs Viérin Architecten in Bruges that was established by his great grand father. He was chairman of the West Flanders Quality Chamber for nine years until 2015. He has taught at the Université Catholique de Louvain and the TU Delft from 2013 to 2018. \nDer Vortrag ist Teil der Ringvorlesung Gebaute Ordnung: Speicher des Wissens und der Mittwoch-Abendvorträge des Fachbereichs Architektur der TU Darmstadt und wird in englischer Sprache gehalten. Die Veranstaltung findet virtuell statt (ZOOM-Link) \n\nUnser alltägliches Leben wird in nicht unerheblichem Maße von der architektonischen Konfiguration des uns umgebenden Raums beeinflusst. Hierbei handelt es sich jedoch nur selten um das Produkt zufälliger und nicht intendierter Umstände. So müssen sich Architekt_innen\, die sich mit der baulichen Gestaltung von Regierungs- und Behördengebäuden\, städtischen Räumen\, Bibliotheken oder anderen Formen des Gebauten auseinandersetzen\, seit jeher nicht nur nach ästhetischen\, sondern gleichermaßen nach funktionalen Anforderungen und Bedürfnissen richten\, die an die von ihnen entworfenen Bauten und Architekturen gestellt werden. Resultat sind sich architektonisch manifestierende Räume\, die unter anderem politisch-soziale Ordnungen und Idealvorstellungen widerspiegeln und konstituieren sollen oder in Hinblick auf spezifische Formen der Machtausübung und Machtsicherung gestaltet werden. \nDer LOEWE-Schwerpunkt „Architekturen des Ordnens: Praktiken und Diskurse zwischen Entwerfen und Wissen“\, ein Forschungsprojekt der Goethe-Universität Frankfurt und Technischen Universität Darmstadt\, mit dem Max-Planck-Institut für Rechtsgeschichte und Rechtstheorie und dem Deutschen Architekturmuseum als außeruniversitären Partnern\, hat sich im Rahmen des Jahresthemas 2021 „Gebaute Ordnung“ in der ersten Jahreshälfte mit verschiedenen Räumen der Macht auseinandergesetzt. In der zweiten Jahreshälfte stehen „Speicher des Wissens“ im Mittelpunkt. Den Ausgangspunkt für die thematische Ausrichtung der Ringvorlesung „Gebaute Ordnung: Speicher des Wissens“ im Wintersemester 2021/22 bildet die Feststellung\, dass Architektur Wissen räumlich konfiguriert und damit wesentlichen Anteil an der Modulierung\, Durchsetzung\, Kanonisierung und Institutionalisierung epistemischer Modelle hat. Archive\, Bibliotheken\, Museen und Universitäten können als materialisierte Wissensordnungen aufgefasst werden: Das gesammelte\,\nausgewählte\, geordnete\, erschlossene und vermittelte Wissen wird räumlich gefasst. Untersucht werden soll\, inwiefern die konkrete architektonische Rahmung auf Organisations- oder Wissensstrukturen zurückwirkt. \nIm Rahmen von vier Abendvorträgen\, die reale\, theoretische und utopische Wissensordnungen und deren architektonische Konfiguration in den Blick nehmen\, wird dem wechselseitigen Verhältnis von gebauten Räumen und Ordnungsvorstellungen nachgegangen. \nErgänzt wird das Programm durch eine Veranstaltung mit dem „Center for Critical Studies in Architecture“ (CCSA)\, das innerhalb der Reihe CCSA Talks aktuelle Forschungsarbeiten und Veröffentlichungen vorstellt und sie mit Gästen diskutiert.
URL:https://dam-online.de/veranstaltung/architectures-of-order-practices-and-discourses-between-design-and-knowledge-reading-place/
LOCATION:Privat:\, Henschelstr. 18\, Frankfurt am Main\, Hessen\, 60594\, Deutschland
CATEGORIES:Veranstaltung
ATTACH;FMTTYPE=image/jpeg:https://dam-online.de/wp-content/uploads/2021/11/Abb_Vierin-600x450-1.jpg
END:VEVENT
END:VCALENDAR