BEGIN:VCALENDAR
VERSION:2.0
PRODID:-//DAM Online - ECPv6.15.20//NONSGML v1.0//EN
CALSCALE:GREGORIAN
METHOD:PUBLISH
X-ORIGINAL-URL:https://dam-online.de
X-WR-CALDESC:Veranstaltungen für DAM Online
REFRESH-INTERVAL;VALUE=DURATION:PT1H
X-Robots-Tag:noindex
X-PUBLISHED-TTL:PT1H
BEGIN:VTIMEZONE
TZID:Europe/Berlin
BEGIN:DAYLIGHT
TZOFFSETFROM:+0100
TZOFFSETTO:+0200
TZNAME:CEST
DTSTART:20200329T010000
END:DAYLIGHT
BEGIN:STANDARD
TZOFFSETFROM:+0200
TZOFFSETTO:+0100
TZNAME:CET
DTSTART:20201025T010000
END:STANDARD
BEGIN:DAYLIGHT
TZOFFSETFROM:+0100
TZOFFSETTO:+0200
TZNAME:CEST
DTSTART:20210328T010000
END:DAYLIGHT
BEGIN:STANDARD
TZOFFSETFROM:+0200
TZOFFSETTO:+0100
TZNAME:CET
DTSTART:20211031T010000
END:STANDARD
BEGIN:DAYLIGHT
TZOFFSETFROM:+0100
TZOFFSETTO:+0200
TZNAME:CEST
DTSTART:20220327T010000
END:DAYLIGHT
BEGIN:STANDARD
TZOFFSETFROM:+0200
TZOFFSETTO:+0100
TZNAME:CET
DTSTART:20221030T010000
END:STANDARD
BEGIN:DAYLIGHT
TZOFFSETFROM:+0100
TZOFFSETTO:+0200
TZNAME:CEST
DTSTART:20230326T010000
END:DAYLIGHT
BEGIN:STANDARD
TZOFFSETFROM:+0200
TZOFFSETTO:+0100
TZNAME:CET
DTSTART:20231029T010000
END:STANDARD
BEGIN:DAYLIGHT
TZOFFSETFROM:+0100
TZOFFSETTO:+0200
TZNAME:CEST
DTSTART:20240331T010000
END:DAYLIGHT
BEGIN:STANDARD
TZOFFSETFROM:+0200
TZOFFSETTO:+0100
TZNAME:CET
DTSTART:20241027T010000
END:STANDARD
BEGIN:DAYLIGHT
TZOFFSETFROM:+0100
TZOFFSETTO:+0200
TZNAME:CEST
DTSTART:20250330T010000
END:DAYLIGHT
BEGIN:STANDARD
TZOFFSETFROM:+0200
TZOFFSETTO:+0100
TZNAME:CET
DTSTART:20251026T010000
END:STANDARD
END:VTIMEZONE
BEGIN:VEVENT
DTSTART;VALUE=DATE:20230916
DTEND;VALUE=DATE:20240115
DTSTAMP:20260423T005733
CREATED:20230131T104943Z
LAST-MODIFIED:20240415T090318Z
UID:10049025-1694822400-1705276799@dam-online.de
SUMMARY:PROTEST / ARCHITEKTUR. Barrikaden\, Camps\, Sekundenkleber
DESCRIPTION:Besuch\n\n\n	\n\n		\nInfos & ServicesFührungenMuseumsshopCaféKontaktDAM Aktuell\n	...	\n \n		\n\n		\nÖffnungszeitenWird geladen ...\n \n\n\nWird geladen ...\n\n	\n    	            \n                                    \n                                    \n                                    \n                            \n                        \n                                    \n                                    \n                                    \n                            \n                        \n                                    \n                                    \n                                    \n                            \n                        \n                                    \n                                    \n                                    \n                            \n                        \n                                    \n                                    \n                                    \n                            \n                        \n                                    \n                                    \n                                    \n                            \n                        \n                                    \n                                    \n                                    \n                            \n                        \n                                    \n                                    \n                                    \n                            \n                        \n                                    \n                                    \n                                    \n                            \n                        \n                                    \n                                    \n                                    \n                            \n                        \n                                    \n                                    \n                                    \n                            \n                        \n                                    \n                                    \n                                    \n                            \n            \n\n \n\n\n\n\n\n\nHeiligabend\, 1. Weihnachtsfeiertag und 1. Januar GESCHLOSSEN!\n Anfahrt			\n				Deutsches Architekturmuseum (DAM)\n				Schaumainkai 43\n				60596 Frankfurt am Main\n				\n				\n				\n				Stadtplan\n			 Kontakt			\n				T 069 212 38844\n			info.dam@stadt-frankfurt.de\n			 		\n\n		\n		\n	\n\nProgramm\n\n\n	\n\n		\nAusstellungenVeranstaltungenArchitekturpreisePublikationenDAM Digital		\n\n		\n\n\n\n\n\nNACHT DER MUSEEN25. April – 19:00 – 26. April – 2:00UNITED BY BARZ – Calisthenics Community Event – mit Flythenics2. Mai – 10:00 – 17:00\n\n \n\n		\n\n		\n		\n	\n\n	\n\n		\nFoto: Fritz Philipp \n				\n				\n				\n				\n				\n\nEs sind keine anstehenden Veranstaltungen vorhanden.\n\n\n\n\n\n\n\n\n			\n				\n				\n				\n				\n				\n\nEs sind keine anstehenden Veranstaltungen vorhanden.\n\n\n\n			Architekturpreise aktuell:Nächste Veranstaltung:NEUER MENSCH\, NEUE WOHNUNG\n\n				\n	\n\n	\n\n		\nDAM im Stadtraum		\n	\n\nBildung\n\n\n	\n\n		\nErwachseneKinder\, Jugendliche & FamilienSchule & KitaFührungen & TourenPublikationenAnsprechpartner		\n\n		\nKontakt\nConfiyet Aydin\, M.A.\nStellvertretende Leitung Bildung und Vermittlungconfiyet.aydin@stadt-frankfurt.deT +49 (0)69 212-31076\n \n\nNächste Veranstaltung\n\nBlock Lab Minecraft Workshop: DAS HAUS24. April – 16:00 – 18:00After Work Führung: SUBURBIA29. April – 17:00\n\n  		\n\n		\n		\n	\n\n	\n\n		\nNächste Veranstaltung		\n	\n\nSammlungen\n\n\n	\n\n		\nDAM ArchivDAM Sammlung DigitalDAM Bibliothek		\n\n		\nDAM Archiv				\n				Hedderichstraße 108-110\n				60596 Frankfurt am Main\n				dam.archiv@stadt-frankfurt.de\n				 \n				\n				Archivleitung\n				Dr. Katja Leiskau\n				dam.archiv@stadt-frankfurt.de\n				T +49 (0)69 212-30831\n				 \n				\n				DAM Bibliothek			\n				Hedderichstraße 108-110\n				60596 Frankfurt am Main\n				dam.bibliothek@stadt-frankfurt.de\n			 \n			\n				Christiane Eulig\,\n				Bibliothekarin\n				T +49 (0)69 212-30827\n				christiane.eulig@stadt-frankfurt.de\n			 		\n\n		\n		\n	\n\nDas DAM\n\n\n	\n\n		\nPortraitTeamFreunde des DAMSponsoren und UnterstützerJobs		\n\n		\nFreund werden		\n\n		\n		\n	\n\n	\n	\n\n \n			\n			\n				\n				\n				\n				\n			\n				\n				\n			\n				\n				\n				\n				\n				\n				\n				\n				\n				\n				\n				\n				\n					\n					\n						\n						PROTEST/      ARCHITEKTUR\n						Barrikaden\, Camps\, Sekundenkleber\n						\n						\n					\n				\n					\n				\n				\n				\n			\n				\n				\n			\n				\n				\n				\n				\n				\n				\n				\n				\n				\n				\n				\n				\n				\n				\n				\n				\n				\n				Foto: Tim Wagner\, 2019 \n16. September 2023  – 14. Januar 2024\nProtest/Architektur \nBarrikaden\, Camps\, Sekundenkleber \nProteste müssen stören\, sonst wären sie wirkungslos. Wenn Störungen in den öffentlichen Raum ausgreifen und sich dort festsetzen\, wenn sie ihn dauerhaft blockieren\, verteidigen\, schützen oder erobern\, dann entsteht Protestarchitektur. \nDetailreiche Modelle\, gebaut an der Technischen Universität München und der Hochschule für Technik Stuttgart (Prof. Andreas Kretzer)\, zeigen Protestcamps von der Resurrection City 1968 bis zur Lobau-bleibt!-Bewegung 2021/2022. Vierzig „Bodenstrukturen“ aus Lützerath\, zumeist Pfahlbauten\, wurden von Rokas Wille (HfG Karlsruhe) mit Fotopapiermodellen dokumentiert. Der Regisseur Oliver Hardt entwickelte für die Ausstellung eine Filminstallation. Gemeinsam mit Aktivist*innen konnte eine Hängebrücke aus dem Hambacher Wald übernommen werden. Auch ein 1:10-Hängemodell des Barrios Beechtown\, eine Leihgabe des Künstlers Stephan Mörsch\, zeigt diese Waldbesetzung. Die Ausstellungsarchitektur auf der um 1000 Quadratmeter erweiterten Fläche des DAM Ostend wurde von Something Fantastic entwickelt. \nEine Ausstellung des DAM – Deutsches Architekturmuseum und des MAK – Museum für angewandte Kunst in Wien \nKuratorische Leitung: Oliver Elser\, DAM \nGastkurator: Sebastian Hackenschmidt\, MAK\, Wien \nKuratorische Assistenz und Recherche: Anna-Maria Mayerhofer \nWissenschaftliche Volontärin: Jennifer Dyck \nLektorat und Katalogorganisation: Miriam Kremser \nGefördert durch die Kulturstiftung des Bundes \nGefördert von der Beauftragten des Bundes für Kultur und Medien \nTeilprojekt zur Architekturvermittlung in Kooperation mit der Wüstenrot Stiftung. \n\n \n			\n			\n				\n				\n				\n				\n			\n				\n				\n				\n				\n				\n				\n				\n				\n				\n				\n				Führungen\n\n			\n				\n				\n				\n				\n				Führungen durch die Ausstellung mit Yorck  Förster finden immer samstags und sonntags jeweils um 15 Uhr statt. \n			\n			\n				\n				\n				\n				\n			\n				\n				\n				\n				\n				\n				\n				\n				\n				\n				\n				Video \n\n			\n				\n				\n				\n				\n				\n				\n			\n				\n				\n				\n				\n				\n			\n			\n				\n				\n				\n				\n			\n				\n				\n				\n				\n				\n				\n				\n				\n				\n				\n				Eindrücke von der Ausstellung\n\n			\n				\n					\n					\n					\n				\n				Foto: Moritz Bernoully \n					\n					\n					\n				\n				Foto: Moritz Bernoully \n					\n					\n					\n				\n				Stephan Mörsch: „Beechtown“\, 2018-2023\, © VG Bild-Kunst\, Bonn 2023\, Foto: Moritz Bernoully \n					\n					\n					\n				\n				Foto: Moritz Bernoully \n					\n					\n					\n				\n				Foto: Moritz Bernoully \n					\n					\n					\n				\n				Foto: Moritz Bernoully \n					\n					\n					\n				\n				Rokas Wille: 40 Lützerath-Modelle\, 2023\, \nFoto: Moritz Bernoully \n					\n					\n					\n				\n				Stephan Mörsch: „Beechtown“\, 2018-2023\, © VG Bild-Kunst\, Bonn 2023\, \nFoto: Moritz Bernoully \n					\n					\n					\n				\n				Foto: Moritz Bernoully \n					\n					\n					\n				\n				Foto: Moritz Bernoully \n					\n					\n					\n				\n				Foto: Moritz Bernoully \n					\n					\n					\n				\n				Foto: Moritz Bernoully \n			\n				\n				\n				\n				\n			\n				\n				\n				\n				\n				\n				\n				\n				\n				\n				\n				Begleitprogramm\n\n			\n				\n				\n				\n				\n				Es sind keine anstehenden Veranstaltungen vorhanden.
URL:https://dam-online.de/veranstaltung/protest-architektur/
LOCATION:DAM Ostend
CATEGORIES:Ausstellung,Veranstaltung
ATTACH;FMTTYPE=image/jpeg:https://dam-online.de/wp-content/uploads/2023/08/DAM_PROTEST_2019_Hambi_©TimWagner.jpg
END:VEVENT
BEGIN:VEVENT
DTSTART;TZID=Europe/Berlin:20211204T180000
DTEND;TZID=Europe/Berlin:20211204T180000
DTSTAMP:20260423T005733
CREATED:20211109T100100Z
LAST-MODIFIED:20211115T113741Z
UID:10049624-1638640800-1638640800@dam-online.de
SUMMARY:Digitale Preisverleihung: Frankfurt_2099
DESCRIPTION:Gemeinsam mit dem YouTuber Josef Heinrich Bogatzki hat das DAM vom 12. März – 12. Oktober 2021 einen Minecraft-Wettbewerb ausgelobt. Jeder/jede\, der/die mitmachen wollte\, bekam einen digitalen Bauplatz auf dem Frankfurt_2099-Server in dem Spiel Minecraft. Dort konnten die Spieler:innen ihren urbanen Zukunftsvisionen eine Form geben. Tausende Bauplätze wurden bespielt und über 4.000 Bauprojekt eingereicht. Eingeteilt wurden die Ergebnisse in zwei Kategorien – Kids und Main – die Trennlinie war das Alter von 12 Jahren. \nEine Jury\, bestehend aus Architekt:innen und erfahrenen Minecraft-Spielern\, tagte am 26. Oktober 2021 und hat sich nach stundenlanger Sichtung und Diskussion auf neun Gewinner:innen-Projekte geeinigt. \nDie Preisträger:innen sind: \nKategorie Kids \n\nPlatz: David Kersten (und Unterstützer:innen)\nPlatz: Franziska Eberle (und Unterstützer:innen)\nPlatz: Timur Schuckmann (und Unterstützer:innen)\n\n  \nKategorie Main \n\nPlatz: Lars Fröhlich\nPlatz: Henry Barth\nPlatz: Simon Bernhard (und Unterstützer:innen)\nPlatz: Alexander Bendak\nPlatz: Jan Bausch (und Unterstützer:innen)\nPlatz: David und Zoe Hamann\n\n  \nDie Unterstützer:innen der Gewinner:innen werden im Rahmen der Preisverleihung namentlich genannt. \nAm Samstag\, den 4. Dezember 2021 um 18 Uhr wird die Preisverleihung dieses besonderen Wettbewerbs stattfinden. Das Event kann live auf YouTube und Facebook verfolgt werden: \nfacebook.com/architekturmuseum \nyoutube.com/c/DeutschesArchitekturmuseumDAM \nDas Projekt „Frankfurt_2099“ wird im Rahmen von „Dive.In Programm für digitale Interaktionen“ der Kulturstiftung des Bundes entwickelt und durch die Beauftragte der Bundesregierung für Kultur und Medien (BKM) im Programm NEUSTART KULTUR gefördert. \nMit freundlicher Unterstützung der Gesellschaft der Freunde des DAM e.V.
URL:https://dam-online.de/veranstaltung/preisverleihung-frankfurt_2099/
LOCATION:Privat:\, Henschelstr. 18\, Frankfurt am Main\, Hessen\, 60594\, Deutschland
CATEGORIES:Veranstaltung
ATTACH;FMTTYPE=image/png:https://dam-online.de/wp-content/uploads/2021/11/2021-02-07_19.38.41.png
END:VEVENT
END:VCALENDAR