BEGIN:VCALENDAR
VERSION:2.0
PRODID:-//DAM Online - ECPv6.15.20//NONSGML v1.0//EN
CALSCALE:GREGORIAN
METHOD:PUBLISH
X-ORIGINAL-URL:https://dam-online.de
X-WR-CALDESC:Veranstaltungen für DAM Online
REFRESH-INTERVAL;VALUE=DURATION:PT1H
X-Robots-Tag:noindex
X-PUBLISHED-TTL:PT1H
BEGIN:VTIMEZONE
TZID:Europe/Berlin
BEGIN:DAYLIGHT
TZOFFSETFROM:+0100
TZOFFSETTO:+0200
TZNAME:CEST
DTSTART:20210328T010000
END:DAYLIGHT
BEGIN:STANDARD
TZOFFSETFROM:+0200
TZOFFSETTO:+0100
TZNAME:CET
DTSTART:20211031T010000
END:STANDARD
BEGIN:DAYLIGHT
TZOFFSETFROM:+0100
TZOFFSETTO:+0200
TZNAME:CEST
DTSTART:20220327T010000
END:DAYLIGHT
BEGIN:STANDARD
TZOFFSETFROM:+0200
TZOFFSETTO:+0100
TZNAME:CET
DTSTART:20221030T010000
END:STANDARD
BEGIN:DAYLIGHT
TZOFFSETFROM:+0100
TZOFFSETTO:+0200
TZNAME:CEST
DTSTART:20230326T010000
END:DAYLIGHT
BEGIN:STANDARD
TZOFFSETFROM:+0200
TZOFFSETTO:+0100
TZNAME:CET
DTSTART:20231029T010000
END:STANDARD
END:VTIMEZONE
BEGIN:VEVENT
DTSTART;TZID=Europe/Berlin:20220428T190000
DTEND;TZID=Europe/Berlin:20220428T190000
DTSTAMP:20260420T192334
CREATED:20220225T094701Z
LAST-MODIFIED:20220421T094504Z
UID:10048865-1651172400-1651172400@dam-online.de
SUMMARY:4x4 Kommunen aus Rhein-Main diskutieren: Wie gestalte ich meinen Boden?
DESCRIPTION:28. April 2022\, 19 Uhr\nOnline: DEUTSCHES ARCHITEKTURMUSEUM DAM – YOUTUBE \nDas DAM Deutsche Architekturmuseum startet mit der Talkserie „4×4 Kommunen aus Rhein-Main diskutieren ein Thema“ einen interkommunalen Diskurs über Innovationen und Spannungsfelder rund ums Wohnen in der Rhein-Main Region. In den insgesamt vier Talks kommen handelnde Protagonisten aus den Kommunen zusammen\, um ihre Erfahrungen\, Strategien und Best Practices zu teilen – und im Rahmen dessen der interessierten Öffentlichkeit ein Bild über den Wohnstandort Rhein-Main aus fachlich-verantwortlicher Perspektive an die Hand zu geben. Gemeinsam sollen lokale Herausforderungen\, Impulse und Lösungsansätze aus anderen Metropolregionen und sowie praktische Erfahrungen und weiterführende Visionen diskutiert werden und etwaige neue Formen des Zusammenwirkens erörtert werden. \nGerade im Ballungsraum Frankfurt Rhein-Main stellen sich gemeinsame Herausforderungen und Zukunftsfragen rund um Wohnungsbau und Stadtentwicklung ganz besonders. Die in dieser Veranstaltungsreihe miteinander diskutierenden Städte und Gemeinden sind in der Landesinitiative GROSSER FRANKFURTER BOGEN mit dem Kernziel\, mehr bezahlbare Wohnungen in lebenswerten Quartieren für heute und morgen zu schaffen\, miteinander verbunden. \n1. Wieso freue ich mich (nicht) auf neues Wohnen?\n2. Bin ich für alle ein gutes Zuhause?\n3. Bin ich ein guter Nachbar?\n4. Wie gestalte ich meinen Boden? \n1. Donnerstag\, 13. Januar 2022: Wiesbaden\, Kronberg\, Langen\, Maintal\n2. Donnerstag\, 3. Februar 2022: Frankfurt\, Heusenstamm\, Zwingenberg\, Kelsterbach\n3. Donnerstag\, 24. Februar 2022: Darmstadt\, Bad-Homburg\, Neu-Isenburg\, Erzhausen\n4. Donnerstag\, 28. April 2022: Offenbach\, Hanau\, Oberursel\, Mühltal \nWeitere Infos: GFB-ZUKUNFTSPREIS | GROSSER FRANKFURTER BOGEN (GROSSER-FRANKFURTER-BOGEN.DE)\n \nIn Kooperation mit:\nGROSSER FRANKFURTER BOGEN – BEZAHLBAR WOHNEN FÜR ALLE (GROSSER-FRANKFURTER-BOGEN.DE)\nHESSISCHES MINISTERIUM FÜR WIRTSCHAFT\, ENERGIE\, VERKEHR UND WOHNEN
URL:https://dam-online.de/veranstaltung/4x4-kommunen-aus-rhein-main-diskutieren-wie-gestalte-ich-meinen-boden/
LOCATION:Online-Veranstaltung
CATEGORIES:Veranstaltung
ATTACH;FMTTYPE=image/jpeg:https://dam-online.de/wp-content/uploads/2022/02/4x4_Banner_RZ_04-scaled.jpg
ORGANIZER;CN="Deutsches Architekturmuseum (DAM)":MAILTO:info.dam@stadt-frankfurt.de
END:VEVENT
BEGIN:VEVENT
DTSTART;TZID=Europe/Berlin:20220224T190000
DTEND;TZID=Europe/Berlin:20220224T190000
DTSTAMP:20260420T192334
CREATED:20220204T072253Z
LAST-MODIFIED:20220218T111056Z
UID:10049710-1645729200-1645729200@dam-online.de
SUMMARY:4x4 Kommunen aus Rhein-Main diskutieren: Bin ich ein guter Nachbar? Darmstadt\, Bad-Homburg\, Neu-Isenburg\, Erzhausen
DESCRIPTION:24. Februar 2022\, 19 Uhr\nOnline: DEUTSCHES ARCHITEKTURMUSEUM DAM – YOUTUBE\nEs diskutieren: Darmstadt\, Bad-Homburg\, Neu-Isenburg\, Erzhausen \nDas DAM Deutsche Architekturmuseum startet mit der Talkserie „4×4 Kommunen aus Rhein-Main diskutieren ein Thema“ einen interkommunalen Diskurs über Innovationen und Spannungsfelder rund ums Wohnen in der Rhein-Main Region. In den insgesamt vier Talks kommen handelnde Protagonisten aus den Kommunen zusammen\, um ihre Erfahrungen\, Strategien und Best Practices zu teilen – und im Rahmen dessen der interessierten Öffentlichkeit ein Bild über den Wohnstandort Rhein-Main aus fachlich-verantwortlicher Perspektive an die Hand zu geben. Gemeinsam sollen lokale Herausforderungen\, Impulse und Lösungsansätze aus anderen Metropolregionen und sowie praktische Erfahrungen und weiterführende Visionen diskutiert werden und etwaige neue Formen des Zusammenwirkens erörtert werden. \nGerade im Ballungsraum Frankfurt Rhein-Main stellen sich gemeinsame Herausforderungen und Zukunftsfragen rund um Wohnungsbau und Stadtentwicklung ganz besonders. Die in dieser Veranstaltungsreihe miteinander diskutierenden Städte und Gemeinden sind in der Landesinitiative GROSSER FRANKFURTER BOGEN mit dem Kernziel\, mehr bezahlbare Wohnungen in lebenswerten Quartieren für heute und morgen zu schaffen\, miteinander verbunden. \n1. Wieso freue ich mich (nicht) auf neues Wohnen?\n2. Bin ich für alle ein gutes Zuhause?\n3. Bin ich ein guter Nachbar?\n4. Wie gestalte ich meinen Boden? \n1. Donnerstag\, 13. Januar 2022: Wiesbaden\, Kronberg\, Langen\, Maintal\n2. Donnerstag\, 3. Februar 2022: Frankfurt\, Heusenstamm\, Zwingenberg\, Kelsterbach\n3. Donnerstag\, 24. Februar 2022: Darmstadt\, Bad-Homburg\, Neu-Isenburg\, Erzhausen\n4. Donnerstag\, 17. März 2022 \nWeitere Infos: GFB-ZUKUNFTSPREIS | GROSSER FRANKFURTER BOGEN (GROSSER-FRANKFURTER-BOGEN.DE)\n \nIn Kooperation mit:\nGROSSER FRANKFURTER BOGEN – BEZAHLBAR WOHNEN FÜR ALLE (GROSSER-FRANKFURTER-BOGEN.DE)\nHESSISCHES MINISTERIUM FÜR WIRTSCHAFT\, ENERGIE\, VERKEHR UND WOHNEN
URL:https://dam-online.de/veranstaltung/4x4-kommunen-aus-rhein-main-diskutieren-bin-ich-ein-guter-nachbar/
LOCATION:Online-Veranstaltung
CATEGORIES:Veranstaltung
ATTACH;FMTTYPE=image/jpeg:https://dam-online.de/wp-content/uploads/2022/02/4x4_Banner-scaled.jpg
ORGANIZER;CN="Deutsches Architekturmuseum (DAM)":MAILTO:info.dam@stadt-frankfurt.de
END:VEVENT
BEGIN:VEVENT
DTSTART;TZID=Europe/Berlin:20220203T190000
DTEND;TZID=Europe/Berlin:20220203T190000
DTSTAMP:20260420T192334
CREATED:20220113T105710Z
LAST-MODIFIED:20220131T180210Z
UID:10049703-1643914800-1643914800@dam-online.de
SUMMARY:4 x 4 Kommunen aus Rhein-Main diskutieren: Bin ich für alle ein gutes Zuhause?
DESCRIPTION:4×4 Kommunen aus Rhein-Main diskutieren: Frankfurt\, Heusenstamm\, Zwingenberg\, Kelsterbach\n\n\n3. Februar 2022\, 19 Uhr\nOnline: DEUTSCHES ARCHITEKTURMUSEUM DAM – YOUTUBE \nDas DAM Deutsche Architekturmuseum startet mit der Talkserie „4×4 Kommunen aus Rhein-Main diskutieren ein Thema“ einen interkommunalen Diskurs über Innovationen und Spannungsfelder rund ums Wohnen in der Rhein-Main Region. In den insgesamt vier Talks kommen handelnde Protagonisten aus den Kommunen zusammen\, um ihre Erfahrungen\, Strategien und Best Practices zu teilen – und im Rahmen dessen der interessierten Öffentlichkeit ein Bild über den Wohnstandort Rhein-Main aus fachlich-verantwortlicher Perspektive an die Hand zu geben. Gemeinsam sollen lokale Herausforderungen\, Impulse und Lösungsansätze aus anderen Metropolregionen und sowie praktische Erfahrungen und weiterführende Visionen diskutiert werden und etwaige neue Formen des Zusammenwirkens erörtert werden. \nGerade im Ballungsraum Frankfurt Rhein-Main stellen sich gemeinsame Herausforderungen und Zukunftsfragen rund um Wohnungsbau und Stadtentwicklung ganz besonders. Die in dieser Veranstaltungsreihe miteinander diskutierenden Städte und Gemeinden sind in der Landesinitiative GROSSER FRANKFURTER BOGE mit dem Kernziel\, mehr bezahlbare Wohnungen in lebenswerten Quartieren für heute und morgen zu schaffen\, miteinander verbunden. \n1. Wieso freue ich mich (nicht) auf neues Wohnen?\n2. Bin ich für alle ein gutes Zuhause?\n3. Bin ich ein guter Nachbar?\n4. Wie gestalte ich meinen Boden? \n1. Donnerstag\, 13. Januar 2022: Wiesbaden\, Kronberg\, Langen\, Maintal\n2. Donnerstag\, 3. Februar 2022: Frankfurt\, Heusenstamm\, Zwingenberg\, Kelsterbach\n3. Donnerstag\, 24. Februar 2022\n4. Donnerstag\, 17. März 2022 \nWeitere Infos: GFB-ZUKUNFTSPREIS | GROSSER FRANKFURTER BOGEN (GROSSER-FRANKFURTER-BOGEN.DE)\n \nIn Kooperation mit:\nGROSSER FRANKFURTER BOGEN – BEZAHLBAR WOHNEN FÜR ALLE (GROSSER-FRANKFURTER-BOGEN.DE)\nHESSISCHES MINISTERIUM FÜR WIRTSCHAFT\, ENERGIE\, VERKEHR UND WOHNEN
URL:https://dam-online.de/veranstaltung/4x4-kommunen-aus-rhein-main-diskutieren-bin-ich-fuer-alle-ein-gutes-zuhause/
LOCATION:Online-Veranstaltung
CATEGORIES:Veranstaltung
ATTACH;FMTTYPE=image/jpeg:https://dam-online.de/wp-content/uploads/2022/01/4x4_Banner-2-scaled.jpg
ORGANIZER;CN="Deutsches Architekturmuseum (DAM)":MAILTO:info.dam@stadt-frankfurt.de
END:VEVENT
END:VCALENDAR