BEGIN:VCALENDAR
VERSION:2.0
PRODID:-//DAM Online - ECPv6.15.20//NONSGML v1.0//EN
CALSCALE:GREGORIAN
METHOD:PUBLISH
X-ORIGINAL-URL:https://dam-online.de
X-WR-CALDESC:Veranstaltungen für DAM Online
REFRESH-INTERVAL;VALUE=DURATION:PT1H
X-Robots-Tag:noindex
X-PUBLISHED-TTL:PT1H
BEGIN:VTIMEZONE
TZID:Europe/Berlin
BEGIN:DAYLIGHT
TZOFFSETFROM:+0100
TZOFFSETTO:+0200
TZNAME:CEST
DTSTART:20180325T010000
END:DAYLIGHT
BEGIN:STANDARD
TZOFFSETFROM:+0200
TZOFFSETTO:+0100
TZNAME:CET
DTSTART:20181028T010000
END:STANDARD
BEGIN:DAYLIGHT
TZOFFSETFROM:+0100
TZOFFSETTO:+0200
TZNAME:CEST
DTSTART:20190331T010000
END:DAYLIGHT
BEGIN:STANDARD
TZOFFSETFROM:+0200
TZOFFSETTO:+0100
TZNAME:CET
DTSTART:20191027T010000
END:STANDARD
BEGIN:DAYLIGHT
TZOFFSETFROM:+0100
TZOFFSETTO:+0200
TZNAME:CEST
DTSTART:20200329T010000
END:DAYLIGHT
BEGIN:STANDARD
TZOFFSETFROM:+0200
TZOFFSETTO:+0100
TZNAME:CET
DTSTART:20201025T010000
END:STANDARD
END:VTIMEZONE
BEGIN:VEVENT
DTSTART;TZID=Europe/Berlin:20191024T190000
DTEND;TZID=Europe/Berlin:20191024T210000
DTSTAMP:20260420T032439
CREATED:20191014T135128Z
LAST-MODIFIED:20191014T135128Z
UID:10049283-1571943600-1571950800@dam-online.de
SUMMARY:Architekturführer Deutschland 2020
DESCRIPTION:Buchpräsentation\nBegrüßung\nULRICH MÜLLER\, Architektur Galerie Berlin \nBuchvorstellung\nBJÖRN ROSEN\, Verlagsleiter DOM publishers\nYORCK FÖRSTER\, CHRISTINA GRÄWE\, PETER CACHOLA SCHMAL\, DAM\, Herausgeber\nNICOLE HEPTNER\, JUNG \nIm Rahmen der Buchvorstellung werden auch die Finalisten zum DAM Preis für Architektur 2020 bekannt gegeben. \nDas Buch wird im Rahmen der Veranstaltung erstmals zum Verkauf angeboten.
URL:https://dam-online.de/veranstaltung/architekturfuehrer-deutschland-2020/
LOCATION:Architektur Galerie Berlin SATELLIT\, Karl-Marx-Allee 98\, Berlin\, 10243\, Deutschland
CATEGORIES:Veranstaltung
ATTACH;FMTTYPE=image/jpeg:https://dam-online.de/wp-content/uploads/2019/10/f9ee1ef0-architekturfuehrer_d_2020_cover_3d.jpg
GEO:52.5166872;13.4424665
X-APPLE-STRUCTURED-LOCATION;VALUE=URI;X-ADDRESS=Architektur Galerie Berlin SATELLIT Karl-Marx-Allee 98 Berlin 10243 Deutschland;X-APPLE-RADIUS=500;X-TITLE=Karl-Marx-Allee 98:geo:13.4424665,52.5166872
END:VEVENT
END:VCALENDAR